BEGIN:VCALENDAR
VERSION:2.0
PRODID:-//Powerful Child - ECPv6.15.20//NONSGML v1.0//EN
CALSCALE:GREGORIAN
METHOD:PUBLISH
X-WR-CALNAME:Powerful Child
X-ORIGINAL-URL:https://powerfulchild.com
X-WR-CALDESC:Events for Powerful Child
REFRESH-INTERVAL;VALUE=DURATION:PT1H
X-Robots-Tag:noindex
X-PUBLISHED-TTL:PT1H
BEGIN:VTIMEZONE
TZID:America/New_York
BEGIN:DAYLIGHT
TZOFFSETFROM:-0500
TZOFFSETTO:-0400
TZNAME:EDT
DTSTART:20220313T070000
END:DAYLIGHT
BEGIN:STANDARD
TZOFFSETFROM:-0400
TZOFFSETTO:-0500
TZNAME:EST
DTSTART:20221106T060000
END:STANDARD
BEGIN:DAYLIGHT
TZOFFSETFROM:-0500
TZOFFSETTO:-0400
TZNAME:EDT
DTSTART:20230312T070000
END:DAYLIGHT
BEGIN:STANDARD
TZOFFSETFROM:-0400
TZOFFSETTO:-0500
TZNAME:EST
DTSTART:20231105T060000
END:STANDARD
BEGIN:DAYLIGHT
TZOFFSETFROM:-0500
TZOFFSETTO:-0400
TZNAME:EDT
DTSTART:20240310T070000
END:DAYLIGHT
BEGIN:STANDARD
TZOFFSETFROM:-0400
TZOFFSETTO:-0500
TZNAME:EST
DTSTART:20241103T060000
END:STANDARD
END:VTIMEZONE
BEGIN:VEVENT
DTSTART;TZID=America/New_York:20230427T070000
DTEND;TZID=America/New_York:20230427T080000
DTSTAMP:20260425T065948
CREATED:20230423T170803Z
LAST-MODIFIED:20230423T200825Z
UID:1380-1682578800-1682582400@powerfulchild.com
SUMMARY:Slow & Strong Yoga - April 27th
DESCRIPTION:Amanda Daley’s early morning\, all-levels class is designed to gently awaken and strengthen your body. Ease into movement as you gradually challenge your muscles and mind by holding beginner-friendly poses that tap into your inner and physical strength. The slow pace allows you to move mindfully and safely. Each class offers its own unique sequence which your teacher will help you modify to fit how you show up that morning. You are strong\, come and let yourself feel it. \n\n\n\nThis class is of moderate intensity. \n\n\n\nPoses will be modified to suit ALL levels\, including beginners.
URL:https://powerfulchild.com/event/slow-strong-yoga-april-27th/
LOCATION:Vital Touch Wellness\, 176 Park Rd\, Downingtown\, Pennsylvania\, 19335\, United States
END:VEVENT
BEGIN:VEVENT
DTSTART;TZID=America/New_York:20230427T183000
DTEND;TZID=America/New_York:20230427T193000
DTSTAMP:20260425T065948
CREATED:20230426T100804Z
LAST-MODIFIED:20230426T100807Z
UID:1669-1682620200-1682623800@powerfulchild.com
SUMMARY:Yin Yoga
DESCRIPTION:Amanda is subbing the yin yoga class at Vital Touch this evening. \n\n\n\nYin Yoga Description: \n\n\n\nFeel stronger\, looser\, centered. This class begins with slow yin yoga to warm up your body. You’ll hold passive stretches for 1-5 minutes to still your mind and release deeply held tension in your muscles and joints. \n\n\n\nRegister here: Register for Yoga – Vital Touch Wellness
URL:https://powerfulchild.com/event/yin-yoga/
END:VEVENT
END:VCALENDAR