BEGIN:VCALENDAR
VERSION:2.0
PRODID:-//Powerful Child - ECPv6.15.20//NONSGML v1.0//EN
CALSCALE:GREGORIAN
METHOD:PUBLISH
X-ORIGINAL-URL:https://powerfulchild.com
X-WR-CALDESC:Events for Powerful Child
REFRESH-INTERVAL;VALUE=DURATION:PT1H
X-Robots-Tag:noindex
X-PUBLISHED-TTL:PT1H
BEGIN:VTIMEZONE
TZID:America/New_York
BEGIN:DAYLIGHT
TZOFFSETFROM:-0500
TZOFFSETTO:-0400
TZNAME:EDT
DTSTART:20220313T070000
END:DAYLIGHT
BEGIN:STANDARD
TZOFFSETFROM:-0400
TZOFFSETTO:-0500
TZNAME:EST
DTSTART:20221106T060000
END:STANDARD
BEGIN:DAYLIGHT
TZOFFSETFROM:-0500
TZOFFSETTO:-0400
TZNAME:EDT
DTSTART:20230312T070000
END:DAYLIGHT
BEGIN:STANDARD
TZOFFSETFROM:-0400
TZOFFSETTO:-0500
TZNAME:EST
DTSTART:20231105T060000
END:STANDARD
BEGIN:DAYLIGHT
TZOFFSETFROM:-0500
TZOFFSETTO:-0400
TZNAME:EDT
DTSTART:20240310T070000
END:DAYLIGHT
BEGIN:STANDARD
TZOFFSETFROM:-0400
TZOFFSETTO:-0500
TZNAME:EST
DTSTART:20241103T060000
END:STANDARD
END:VTIMEZONE
BEGIN:VEVENT
DTSTART;TZID=America/New_York:20230504T070000
DTEND;TZID=America/New_York:20230504T080000
DTSTAMP:20260425T082001
CREATED:20230423T194615Z
LAST-MODIFIED:20230423T200748Z
UID:1444-1683183600-1683187200@powerfulchild.com
SUMMARY:Slow & Strong Yoga - May 4th
DESCRIPTION:Amanda Daley’s early morning\, all-levels class is designed to gently awaken and strengthen your body. Ease into movement as you gradually challenge your muscles and mind by holding beginner-friendly poses that tap into your inner and physical strength. The slow pace allows you to move mindfully and safely. Each class offers its own unique sequence which your teacher will help you modify to fit how you show up that morning. You are strong\, come and let yourself feel it. \n\n\n\nThis class is of moderate intensity. \n\n\n\nPoses will be modified to suit ALL levels\, including beginners.
URL:https://powerfulchild.com/event/slow-strong-yoga-may-4th/
LOCATION:Vital Touch Wellness\, 176 Park Rd\, Downingtown\, Pennsylvania\, 19335\, United States
END:VEVENT
BEGIN:VEVENT
DTSTART;TZID=America/New_York:20230504T183000
DTEND;TZID=America/New_York:20230504T193000
DTSTAMP:20260425T082001
CREATED:20230503T122607Z
LAST-MODIFIED:20230503T122610Z
UID:1679-1683225000-1683228600@powerfulchild.com
SUMMARY:Yin Yoga
DESCRIPTION:Yin Yoga Description \n\n\n\nFeel stronger\, looser\, centered. This class begins with slow yin yoga to warm up your body. You’ll hold passive stretches for 1-5 minutes to still your mind and release deeply held tension in your muscles and joints. \n\n\n\nThe class slowly builds as Alyssa guides you through a slow\, gentle vinyasa flow\, connecting each movement to your breath. As you become more active\, you’ll feel more ease in your body and a deep sense of mindfulness and connection to the present moment. You’ll leave feeling refreshed and centered. \n\n\n\nIntensity: Low to Moderate    Level: ALL Levels
URL:https://powerfulchild.com/event/yin-yoga-2/
ATTACH;FMTTYPE=image/jpeg:https://powerfulchild.com/wp-content/uploads/yin-pic-rotated.jpg
END:VEVENT
END:VCALENDAR