BEGIN:VCALENDAR
VERSION:2.0
PRODID:-//Powerful Child - ECPv6.15.20//NONSGML v1.0//EN
CALSCALE:GREGORIAN
METHOD:PUBLISH
X-ORIGINAL-URL:https://powerfulchild.com
X-WR-CALDESC:Events for Powerful Child
REFRESH-INTERVAL;VALUE=DURATION:PT1H
X-Robots-Tag:noindex
X-PUBLISHED-TTL:PT1H
BEGIN:VTIMEZONE
TZID:America/New_York
BEGIN:DAYLIGHT
TZOFFSETFROM:-0500
TZOFFSETTO:-0400
TZNAME:EDT
DTSTART:20220313T070000
END:DAYLIGHT
BEGIN:STANDARD
TZOFFSETFROM:-0400
TZOFFSETTO:-0500
TZNAME:EST
DTSTART:20221106T060000
END:STANDARD
BEGIN:DAYLIGHT
TZOFFSETFROM:-0500
TZOFFSETTO:-0400
TZNAME:EDT
DTSTART:20230312T070000
END:DAYLIGHT
BEGIN:STANDARD
TZOFFSETFROM:-0400
TZOFFSETTO:-0500
TZNAME:EST
DTSTART:20231105T060000
END:STANDARD
BEGIN:DAYLIGHT
TZOFFSETFROM:-0500
TZOFFSETTO:-0400
TZNAME:EDT
DTSTART:20240310T070000
END:DAYLIGHT
BEGIN:STANDARD
TZOFFSETFROM:-0400
TZOFFSETTO:-0500
TZNAME:EST
DTSTART:20241103T060000
END:STANDARD
END:VTIMEZONE
BEGIN:VEVENT
DTSTART;TZID=America/New_York:20230520T110000
DTEND;TZID=America/New_York:20230520T123000
DTSTAMP:20260425T082143
CREATED:20230514T020658Z
LAST-MODIFIED:20230514T020736Z
UID:1698-1684580400-1684585800@powerfulchild.com
SUMMARY:Yoga Massage
DESCRIPTION:Experience the profound relaxation of restorative yoga enhanced with deeply healing effects of massage.   \n\n\n\nRelease layers of tension and stiffness.  \n\n\n\nRestorative yoga is all about healing the mind and body. You’ll be completely supported in very gentle stretches with blankets and bolsters. As your body relaxes into these supports\, it can release deep layers of pain and tension in tight connective tissue throughout your back\, hips\, shoulders and neck.   \n\n\n\nLet go into a blissful place of peace and stillness.  \n\n\n\nThroughout this class\, in each stretch\, massage therapists will visit every student. Using gentle\, firm pressure\, their hands-on healing touch will encourage a deeper level of letting go within your muscles and your mind.   \n\n\n\nAt the end\, each student will get the equivalent of a full-body massage. You’ll feel nurtured\, rejuvenated\, looser and lighter.  \n\n\n\nNo yoga experience necessary. 
URL:https://powerfulchild.com/event/yoga-massage/
LOCATION:Vital Touch Wellness\, 176 Park Rd\, Downingtown\, Pennsylvania\, 19335\, United States
END:VEVENT
END:VCALENDAR