BEGIN:VCALENDAR
VERSION:2.0
PRODID:-//Powerful Child - ECPv6.15.20//NONSGML v1.0//EN
CALSCALE:GREGORIAN
METHOD:PUBLISH
X-ORIGINAL-URL:https://powerfulchild.com
X-WR-CALDESC:Events for Powerful Child
REFRESH-INTERVAL;VALUE=DURATION:PT1H
X-Robots-Tag:noindex
X-PUBLISHED-TTL:PT1H
BEGIN:VTIMEZONE
TZID:America/New_York
BEGIN:DAYLIGHT
TZOFFSETFROM:-0500
TZOFFSETTO:-0400
TZNAME:EDT
DTSTART:20220313T070000
END:DAYLIGHT
BEGIN:STANDARD
TZOFFSETFROM:-0400
TZOFFSETTO:-0500
TZNAME:EST
DTSTART:20221106T060000
END:STANDARD
BEGIN:DAYLIGHT
TZOFFSETFROM:-0500
TZOFFSETTO:-0400
TZNAME:EDT
DTSTART:20230312T070000
END:DAYLIGHT
BEGIN:STANDARD
TZOFFSETFROM:-0400
TZOFFSETTO:-0500
TZNAME:EST
DTSTART:20231105T060000
END:STANDARD
BEGIN:DAYLIGHT
TZOFFSETFROM:-0500
TZOFFSETTO:-0400
TZNAME:EDT
DTSTART:20240310T070000
END:DAYLIGHT
BEGIN:STANDARD
TZOFFSETFROM:-0400
TZOFFSETTO:-0500
TZNAME:EST
DTSTART:20241103T060000
END:STANDARD
END:VTIMEZONE
BEGIN:VEVENT
DTSTART;TZID=America/New_York:20230614T090000
DTEND;TZID=America/New_York:20230614T100000
DTSTAMP:20260425T081952
CREATED:20230527T110100Z
LAST-MODIFIED:20230609T115914Z
UID:1720-1686733200-1686736800@powerfulchild.com
SUMMARY:Gentle Yoga at Vital Touch - June 14th
DESCRIPTION:Tailored Foundations Description \n\n\n\nOur signature class! This unique and practical class is tailored to the student. Each class includes a fluid sequence of poses determined by the individual needs of the students in the class that day. Emphasis is on postural stability and flexibility to build strength\, support\, and enhance what you do in your everyday life. \n\n\n\nChiropractor and Physical Therapist approved\, this class is perfect for students with pain or physical issues\, or students who are “yoga-shy” and worried about injury. It’s also ideal for the seasoned yogi who wants to hone the basic building blocks of their practice.  \n\n\n\nThis class feels slow and gentle\, but builds serious core strength and pelvic stability. You’ll walk out feeling stronger\, taller\, and looser. \n\n\n\nIntensity: LowLevel: beginner\, intermediate\, advanced
URL:https://powerfulchild.com/event/sub-at-vital-touch/
LOCATION:Vital Touch Wellness\, 176 Park Rd\, Downingtown\, Pennsylvania\, 19335\, United States
ATTACH;FMTTYPE=image/png:https://powerfulchild.com/wp-content/uploads/AMANDA.png
END:VEVENT
BEGIN:VEVENT
DTSTART;TZID=America/New_York:20230614T140000
DTEND;TZID=America/New_York:20230614T150000
DTSTAMP:20260425T081952
CREATED:20230513T151918Z
LAST-MODIFIED:20230602T121042Z
UID:1683-1686751200-1686754800@powerfulchild.com
SUMMARY:Family Yoga @ Coatesville Lib - June 14th
DESCRIPTION:This will be a summer family yoga class that will run every other Wednesday afternoon for the summer. It will be run by Miss Amanda. We will not be limiting to any age\, but it would be best for kids in grades K-5 and their parents/caregivers. Please bring a yoga mat\, blanket\, or towel.  \n\n\n\nClass is free to attend – thank you Coatesville Library! \n\n\n\n\n\n\n\n\n\nFAMILY YOGA – LibCal – Chester County Library System
URL:https://powerfulchild.com/event/family-yoga/
LOCATION:Coatesville Public Library\, 501 E Lincoln Hwy\, Coatesville\, Pennsylvania\, 19320\, United States
ATTACH;FMTTYPE=image/jpeg:https://powerfulchild.com/wp-content/uploads/IMG_20220507_093151957-scaled.jpg
END:VEVENT
END:VCALENDAR