BEGIN:VCALENDAR
VERSION:2.0
PRODID:-//Powerful Child - ECPv6.15.20//NONSGML v1.0//EN
CALSCALE:GREGORIAN
METHOD:PUBLISH
X-WR-CALNAME:Powerful Child
X-ORIGINAL-URL:https://powerfulchild.com
X-WR-CALDESC:Events for Powerful Child
REFRESH-INTERVAL;VALUE=DURATION:PT1H
X-Robots-Tag:noindex
X-PUBLISHED-TTL:PT1H
BEGIN:VTIMEZONE
TZID:America/New_York
BEGIN:DAYLIGHT
TZOFFSETFROM:-0500
TZOFFSETTO:-0400
TZNAME:EDT
DTSTART:20220313T070000
END:DAYLIGHT
BEGIN:STANDARD
TZOFFSETFROM:-0400
TZOFFSETTO:-0500
TZNAME:EST
DTSTART:20221106T060000
END:STANDARD
BEGIN:DAYLIGHT
TZOFFSETFROM:-0500
TZOFFSETTO:-0400
TZNAME:EDT
DTSTART:20230312T070000
END:DAYLIGHT
BEGIN:STANDARD
TZOFFSETFROM:-0400
TZOFFSETTO:-0500
TZNAME:EST
DTSTART:20231105T060000
END:STANDARD
BEGIN:DAYLIGHT
TZOFFSETFROM:-0500
TZOFFSETTO:-0400
TZNAME:EDT
DTSTART:20240310T070000
END:DAYLIGHT
BEGIN:STANDARD
TZOFFSETFROM:-0400
TZOFFSETTO:-0500
TZNAME:EST
DTSTART:20241103T060000
END:STANDARD
END:VTIMEZONE
BEGIN:VEVENT
DTSTART;TZID=America/New_York:20230701T090000
DTEND;TZID=America/New_York:20230701T100000
DTSTAMP:20260425T003119
CREATED:20230630T202800Z
LAST-MODIFIED:20230630T202803Z
UID:1839-1688202000-1688205600@powerfulchild.com
SUMMARY:Gentle Flow at Vital Touch - July 1st
DESCRIPTION:Gentle Flow Description \n\n\n\nEase into your weekend feeling refreshed and centered. Just like its name implies\, this class has slower pacing and more easeful postures. Gentle yoga is all about listening to your body and not pushing yourself beyond your limits. \n\n\n\nThis class is great for the beginner yogi\, but it’s not just for beginners! The easeful pace can be perfect for experienced yogis who need to slow down\, or yogis who have physical limitations or injuries. \n\n\n\nIntensity: Low to moderateLevel: Beginner\, Intermediate\, Advanced
URL:https://powerfulchild.com/event/gentle-flow-at-vital-touch-july-1st/
LOCATION:Vital Touch Wellness\, 176 Park Rd\, Downingtown\, Pennsylvania\, 19335\, United States
ATTACH;FMTTYPE=image/png:https://powerfulchild.com/wp-content/uploads/AMANDA.png
END:VEVENT
BEGIN:VEVENT
DTSTART;TZID=America/New_York:20230701T110000
DTEND;TZID=America/New_York:20230701T120000
DTSTAMP:20260425T003119
CREATED:20230622T000627Z
LAST-MODIFIED:20230622T000630Z
UID:1787-1688209200-1688212800@powerfulchild.com
SUMMARY:Family Yoga - Ages 5-8yrs -July 1st 11am
DESCRIPTION:Family Yoga | Ages 5-8yrs Description \n\n\n\nFamily Yoga & Mindfulness is structured like an age-appropriate kids class – with yoga poses\, sequences\, mindfulness activities\, songs\, and games\, and an emphasis on activities for parents and children to do together. We will explore together meditation\, breathwork – pranayama\, movement – asana\, and relaxation. \n\n\n\nAges: 5-8yrs old \n\n\n\nInvestment: $25 per family
URL:https://powerfulchild.com/event/family-yoga-ages-5-8yrs-july-1st-11am/
LOCATION:Optimal Massage\, 780 Miles Road Suite E\, West Chester\, Pennsylvania\, 19380\, United States
END:VEVENT
BEGIN:VEVENT
DTSTART;TZID=America/New_York:20230701T120000
DTEND;TZID=America/New_York:20230701T130000
DTSTAMP:20260425T003119
CREATED:20230622T002608Z
LAST-MODIFIED:20230622T002609Z
UID:1801-1688212800-1688216400@powerfulchild.com
SUMMARY:Family Yoga - Ages 9-12yrs - July 1st 12:15pm
DESCRIPTION:Family Yoga | Ages 5-8yrs Description \n\n\n\nFamily Yoga & Mindfulness is structured like an age-appropriate kids class – with yoga poses\, sequences\, mindfulness activities\, songs\, and games\, and an emphasis on activities for parents and children to do together. We will explore together meditation\, breathwork – pranayama\, movement – asana\, and relaxation. \n\n\n\nAges: 9-12 yrs old \n\n\n\nInvestment: $25 per family
URL:https://powerfulchild.com/event/family-yoga-ages-9-12yrs-july-1st-1215pm/
LOCATION:Optimal Massage\, 780 Miles Road Suite E\, West Chester\, Pennsylvania\, 19380\, United States
END:VEVENT
END:VCALENDAR