BEGIN:VCALENDAR
VERSION:2.0
PRODID:-//Powerful Child - ECPv6.15.20//NONSGML v1.0//EN
CALSCALE:GREGORIAN
METHOD:PUBLISH
X-WR-CALNAME:Powerful Child
X-ORIGINAL-URL:https://powerfulchild.com
X-WR-CALDESC:Events for Powerful Child
REFRESH-INTERVAL;VALUE=DURATION:PT1H
X-Robots-Tag:noindex
X-PUBLISHED-TTL:PT1H
BEGIN:VTIMEZONE
TZID:America/New_York
BEGIN:DAYLIGHT
TZOFFSETFROM:-0500
TZOFFSETTO:-0400
TZNAME:EDT
DTSTART:20220313T070000
END:DAYLIGHT
BEGIN:STANDARD
TZOFFSETFROM:-0400
TZOFFSETTO:-0500
TZNAME:EST
DTSTART:20221106T060000
END:STANDARD
BEGIN:DAYLIGHT
TZOFFSETFROM:-0500
TZOFFSETTO:-0400
TZNAME:EDT
DTSTART:20230312T070000
END:DAYLIGHT
BEGIN:STANDARD
TZOFFSETFROM:-0400
TZOFFSETTO:-0500
TZNAME:EST
DTSTART:20231105T060000
END:STANDARD
BEGIN:DAYLIGHT
TZOFFSETFROM:-0500
TZOFFSETTO:-0400
TZNAME:EDT
DTSTART:20240310T070000
END:DAYLIGHT
BEGIN:STANDARD
TZOFFSETFROM:-0400
TZOFFSETTO:-0500
TZNAME:EST
DTSTART:20241103T060000
END:STANDARD
END:VTIMEZONE
BEGIN:VEVENT
DTSTART;TZID=America/New_York:20230809T140000
DTEND;TZID=America/New_York:20230809T150000
DTSTAMP:20260424T202709
CREATED:20230513T153528Z
LAST-MODIFIED:20230622T000901Z
UID:1694-1691589600-1691593200@powerfulchild.com
SUMMARY:Family Yoga @ Coatesville Lib - Aug 9th
DESCRIPTION:This will be a summer family yoga class that will run every other Wednesday afternoon for the summer. It will be run by Miss Amanda. We will not be limiting to any age\, but it would be best for kids in grades K-5 and their parents/caregivers. Please bring a yoga mat\, blanket\, or towel.  \n\n\n\nClass is free to attend – thank you Coatesville Library! \n\n\n\n\n\n\n\n\n\nFAMILY YOGA – LibCal – Chester County Library System
URL:https://powerfulchild.com/event/family-yoga-5/
LOCATION:Coatesville Public Library\, 501 E Lincoln Hwy\, Coatesville\, Pennsylvania\, 19320\, United States
ATTACH;FMTTYPE=image/jpeg:https://powerfulchild.com/wp-content/uploads/20230614_142817-scaled.jpg
END:VEVENT
END:VCALENDAR