BEGIN:VCALENDAR
VERSION:2.0
PRODID:-//Powerful Child - ECPv6.15.20//NONSGML v1.0//EN
CALSCALE:GREGORIAN
METHOD:PUBLISH
X-WR-CALNAME:Powerful Child
X-ORIGINAL-URL:https://powerfulchild.com
X-WR-CALDESC:Events for Powerful Child
REFRESH-INTERVAL;VALUE=DURATION:PT1H
X-Robots-Tag:noindex
X-PUBLISHED-TTL:PT1H
BEGIN:VTIMEZONE
TZID:America/New_York
BEGIN:DAYLIGHT
TZOFFSETFROM:-0500
TZOFFSETTO:-0400
TZNAME:EDT
DTSTART:20220313T070000
END:DAYLIGHT
BEGIN:STANDARD
TZOFFSETFROM:-0400
TZOFFSETTO:-0500
TZNAME:EST
DTSTART:20221106T060000
END:STANDARD
BEGIN:DAYLIGHT
TZOFFSETFROM:-0500
TZOFFSETTO:-0400
TZNAME:EDT
DTSTART:20230312T070000
END:DAYLIGHT
BEGIN:STANDARD
TZOFFSETFROM:-0400
TZOFFSETTO:-0500
TZNAME:EST
DTSTART:20231105T060000
END:STANDARD
BEGIN:DAYLIGHT
TZOFFSETFROM:-0500
TZOFFSETTO:-0400
TZNAME:EDT
DTSTART:20240310T070000
END:DAYLIGHT
BEGIN:STANDARD
TZOFFSETFROM:-0400
TZOFFSETTO:-0500
TZNAME:EST
DTSTART:20241103T060000
END:STANDARD
END:VTIMEZONE
BEGIN:VEVENT
DTSTART;TZID=America/New_York:20231002T090000
DTEND;TZID=America/New_York:20231002T100000
DTSTAMP:20260424T174226
CREATED:20230901T175755Z
LAST-MODIFIED:20230914T183751Z
UID:1892-1696237200-1696240800@powerfulchild.com
SUMMARY:Mindful Monday Morning - Oct 2nd
DESCRIPTION:Come out to The Fulcrum Place at KJW & Associates every Monday morning at 9am for a wonderful start to your week. Class is designed to bring your mind\, body\, and breath into alignment.  Gentle movements\, breathwork\, mindfulness\, and meditation wrapped up into a unique class experience. \n\n\n\nRSVP is REQUIRED- please do so below or emailing me. \n\n\n\n\n\n\nVenmo
URL:https://powerfulchild.com/event/mindful-monday-morning-oct-2nd/
LOCATION:KJW & Associates\, 530 Brandywine Ave\, Downingtown\, Pennsylvania\, 19335\, United States
ATTACH;FMTTYPE=image/jpeg:https://powerfulchild.com/wp-content/uploads/20190729_182808-scaled.jpg
END:VEVENT
BEGIN:VEVENT
DTSTART;TZID=America/New_York:20231002T190000
DTEND;TZID=America/New_York:20231002T200000
DTSTAMP:20260424T174226
CREATED:20230912T132944Z
LAST-MODIFIED:20230912T132948Z
UID:1905-1696273200-1696276800@powerfulchild.com
SUMMARY:Monday Night Zoom Yoga - Oct 2nd
DESCRIPTION:Join ZOOM\n\n\n\n\n \n\n\n\n\n\nClass is offered in the comfort of your own space\, no driving required!  Zoom meeting ID is 680 382 479. \n\n\n\nTime: Every week on Monday at 7:00 PM\, arrive at 6:45 to connect to the community – I highly recommend arriving early to meet the community. This is how we build relationships and make friends! \n\n\n\nCost: $15 payable via Venmo to amanda@powerfulchild (Amanda Daley).  Tips are accepted! Sometimes cost is hindrance; I will never turn anyone away. The community will cover it! Reach out if you would like assistance.  \n\n\n\n\n\n\n\n\n\n\n\n\n\n\n\n\nPay $15 via PayPal\n\n\n\n\n\n\n\n\n\n\n\n\n\n\n  \n\n\n\nYoga Sutra 1.2 –  \n\n\n\nYogash citta vrtti niroa: yoga is the cessation of the modifications\, or fluctuations\, of the mind. \n\n\n\n\n\n\n\nDescription \n\n\n\nYoga has this amazing power that moves beyond the body and into our minds\, hearts\, and spirits.  It is through the cultivation of mindfulness in our practice and lives that is the key to unlocking the power we contain.  That power allows us to connect to truth.  The truth that we are enough\, everything we need is within\, and freedom from what has been blocking us from living that truth. \n\n\n\nIt is my intention in offering this class\, that we will have ample opportunity to practice cultivating the skills that lead us to this freedom. \n\n\n\nThis practice is for everyone. Nothing needs to change for you to practice yoga\, please come as you are.
URL:https://powerfulchild.com/event/monday-night-zoom-yoga-oct-2nd/
ATTACH;FMTTYPE=image/jpeg:https://powerfulchild.com/wp-content/uploads/pexels-photo-6697233.jpeg
END:VEVENT
END:VCALENDAR