BEGIN:VCALENDAR
VERSION:2.0
PRODID:-//Powerful Child - ECPv6.15.20//NONSGML v1.0//EN
CALSCALE:GREGORIAN
METHOD:PUBLISH
X-ORIGINAL-URL:https://powerfulchild.com
X-WR-CALDESC:Events for Powerful Child
REFRESH-INTERVAL;VALUE=DURATION:PT1H
X-Robots-Tag:noindex
X-PUBLISHED-TTL:PT1H
BEGIN:VTIMEZONE
TZID:America/New_York
BEGIN:DAYLIGHT
TZOFFSETFROM:-0500
TZOFFSETTO:-0400
TZNAME:EDT
DTSTART:20220313T070000
END:DAYLIGHT
BEGIN:STANDARD
TZOFFSETFROM:-0400
TZOFFSETTO:-0500
TZNAME:EST
DTSTART:20221106T060000
END:STANDARD
BEGIN:DAYLIGHT
TZOFFSETFROM:-0500
TZOFFSETTO:-0400
TZNAME:EDT
DTSTART:20230312T070000
END:DAYLIGHT
BEGIN:STANDARD
TZOFFSETFROM:-0400
TZOFFSETTO:-0500
TZNAME:EST
DTSTART:20231105T060000
END:STANDARD
BEGIN:DAYLIGHT
TZOFFSETFROM:-0500
TZOFFSETTO:-0400
TZNAME:EDT
DTSTART:20240310T070000
END:DAYLIGHT
BEGIN:STANDARD
TZOFFSETFROM:-0400
TZOFFSETTO:-0500
TZNAME:EST
DTSTART:20241103T060000
END:STANDARD
END:VTIMEZONE
BEGIN:VEVENT
DTSTART;TZID=America/New_York:20231006T183000
DTEND;TZID=America/New_York:20231006T193000
DTSTAMP:20260424T190625
CREATED:20230918T013821Z
LAST-MODIFIED:20230918T013824Z
UID:1938-1696617000-1696620600@powerfulchild.com
SUMMARY:Monthly Mindfulness for Parenting - Oct 6th
DESCRIPTION:Monthly Mindfulness for Parenting – Donation based mindfulness group held on the first Friday of every month at 6:30 pm.  Join us for time to share\, connect\, and support others raising children in our community. Learn breathwork and mindfulness techniques\, plus time to practice and meditate.  Chairs\, cushions\, and mats provided.   \n\n\n\nPlease email if interested in attending: RSVP
URL:https://powerfulchild.com/event/monthly-mindfulness-for-parenting-oct-6th/
LOCATION:KJW & Associates\, 530 Brandywine Ave\, Downingtown\, Pennsylvania\, 19335\, United States
ATTACH;FMTTYPE=image/jpeg:https://powerfulchild.com/wp-content/uploads/pexels-photo-4474035.jpeg
END:VEVENT
END:VCALENDAR