BEGIN:VCALENDAR
VERSION:2.0
PRODID:-//Powerful Child - ECPv6.15.20//NONSGML v1.0//EN
CALSCALE:GREGORIAN
METHOD:PUBLISH
X-ORIGINAL-URL:https://powerfulchild.com
X-WR-CALDESC:Events for Powerful Child
REFRESH-INTERVAL;VALUE=DURATION:PT1H
X-Robots-Tag:noindex
X-PUBLISHED-TTL:PT1H
BEGIN:VTIMEZONE
TZID:America/New_York
BEGIN:DAYLIGHT
TZOFFSETFROM:-0500
TZOFFSETTO:-0400
TZNAME:EDT
DTSTART:20230312T070000
END:DAYLIGHT
BEGIN:STANDARD
TZOFFSETFROM:-0400
TZOFFSETTO:-0500
TZNAME:EST
DTSTART:20231105T060000
END:STANDARD
BEGIN:DAYLIGHT
TZOFFSETFROM:-0500
TZOFFSETTO:-0400
TZNAME:EDT
DTSTART:20240310T070000
END:DAYLIGHT
BEGIN:STANDARD
TZOFFSETFROM:-0400
TZOFFSETTO:-0500
TZNAME:EST
DTSTART:20241103T060000
END:STANDARD
BEGIN:DAYLIGHT
TZOFFSETFROM:-0500
TZOFFSETTO:-0400
TZNAME:EDT
DTSTART:20250309T070000
END:DAYLIGHT
BEGIN:STANDARD
TZOFFSETFROM:-0400
TZOFFSETTO:-0500
TZNAME:EST
DTSTART:20251102T060000
END:STANDARD
END:VTIMEZONE
BEGIN:VEVENT
DTSTART;TZID=America/New_York:20240115T090000
DTEND;TZID=America/New_York:20240115T100000
DTSTAMP:20260424T152553
CREATED:20240114T230411Z
LAST-MODIFIED:20240114T230414Z
UID:2061-1705309200-1705312800@powerfulchild.com
SUMMARY:Tailored Foundations Yoga @ Vital Touch - Jan 15th
DESCRIPTION:This unique and practical class is tailored to the student. Each class includes a fluid sequence of poses determined by the individual needs of the students in the class that day. Emphasis is on postural stability and flexibility to build strength\, support\, and enhance what you do in your everyday life. \n\n\n\nChiropractor and Physical Therapist approved\, this class is perfect for students with pain or physical issues\, or students who are “yoga-shy” and worried about injury. It’s also ideal for the seasoned yogi who wants to hone the basic building blocks of their practice.  \n\n\n\nThis class feels slow and gentle\, but builds serious core strength and pelvic stability. You’ll walk out feeling stronger\, taller\, and looser. \n\n\n\nIntensity: LowLevel: beginner\, intermediate\, advanced \n\n\n\nRegister with Vital Touch
URL:https://powerfulchild.com/event/tailored-foundations-yoga-vital-touch-jan-15th/
LOCATION:Vital Touch Wellness\, 176 Park Rd\, Downingtown\, Pennsylvania\, 19335\, United States
ATTACH;FMTTYPE=image/jpeg:https://powerfulchild.com/wp-content/uploads/IMG_20230126_073520490.jpg
END:VEVENT
BEGIN:VEVENT
DTSTART;TZID=America/New_York:20240115T190000
DTEND;TZID=America/New_York:20240115T200000
DTSTAMP:20260424T152553
CREATED:20240104T170045Z
LAST-MODIFIED:20240104T170047Z
UID:2037-1705345200-1705348800@powerfulchild.com
SUMMARY:Monday Night Zoom Yoga - Jan 15th
DESCRIPTION:Join ZOOM\n\n\n\n\n \n\n\n\n\n\nClass is offered in the comfort of your own space\, no driving required!  Zoom meeting ID is 680 382 479. \n\n\n\nTime: Every week on Monday at 7:00 PM\, arrive at 6:45 to connect to the community – I highly recommend arriving early to meet the community. This is how we build relationships and make friends! \n\n\n\nCost: $15 payable via Venmo to @PowerfulChild (Amanda Daley).  Tips are accepted! Sometimes cost is hindrance; no one will be turned away. The community will cover it! Reach out if you would like assistance.  \n\n\n\nPlease learn more by clicking on the Classes tab and selecting Monday Zoom Yoga. \n\n\n\n\n\n\n\n\n\n\n\n\n\n\nPay $15 via PayPal
URL:https://powerfulchild.com/event/monday-night-zoom-yoga-jan-15th/
ATTACH;FMTTYPE=image/jpeg:https://powerfulchild.com/wp-content/uploads/pexels-photo-6697233.jpeg
END:VEVENT
END:VCALENDAR