BEGIN:VCALENDAR
VERSION:2.0
PRODID:-//Powerful Child - ECPv6.15.20//NONSGML v1.0//EN
CALSCALE:GREGORIAN
METHOD:PUBLISH
X-WR-CALNAME:Powerful Child
X-ORIGINAL-URL:https://powerfulchild.com
X-WR-CALDESC:Events for Powerful Child
REFRESH-INTERVAL;VALUE=DURATION:PT1H
X-Robots-Tag:noindex
X-PUBLISHED-TTL:PT1H
BEGIN:VTIMEZONE
TZID:America/New_York
BEGIN:DAYLIGHT
TZOFFSETFROM:-0500
TZOFFSETTO:-0400
TZNAME:EDT
DTSTART:20230312T070000
END:DAYLIGHT
BEGIN:STANDARD
TZOFFSETFROM:-0400
TZOFFSETTO:-0500
TZNAME:EST
DTSTART:20231105T060000
END:STANDARD
BEGIN:DAYLIGHT
TZOFFSETFROM:-0500
TZOFFSETTO:-0400
TZNAME:EDT
DTSTART:20240310T070000
END:DAYLIGHT
BEGIN:STANDARD
TZOFFSETFROM:-0400
TZOFFSETTO:-0500
TZNAME:EST
DTSTART:20241103T060000
END:STANDARD
BEGIN:DAYLIGHT
TZOFFSETFROM:-0500
TZOFFSETTO:-0400
TZNAME:EDT
DTSTART:20250309T070000
END:DAYLIGHT
BEGIN:STANDARD
TZOFFSETFROM:-0400
TZOFFSETTO:-0500
TZNAME:EST
DTSTART:20251102T060000
END:STANDARD
END:VTIMEZONE
BEGIN:VEVENT
DTSTART;TZID=America/New_York:20240128T160000
DTEND;TZID=America/New_York:20240128T173000
DTSTAMP:20260424T112651
CREATED:20240107T195656Z
LAST-MODIFIED:20240107T195659Z
UID:2056-1706457600-1706463000@powerfulchild.com
SUMMARY:A Midwinter's Night Dream - Jan 28th
DESCRIPTION:Rekindle your spirit and comfort your soul. \n\n\n\nEnjoy a magical evening of music\, yoga and meditation while soaking in the healing warmth of gorgeous greenhouse plants. \n\n\n\nJoin Amanda Daley\, RYT 500\, as she leads you through a gentle yoga sequence accompanied by Sarah Overton\, New York City cellist.  As you move\, breathe\, and connect to the moment\, Sarah will create a warm\, meditative musical backdrop to help you sink into the experience more deeply. Amanda will end the class with a relaxing guided meditation as you rest in a cozy savasana. \n\n\n\nThroughout class\, you’ll be soaking in the warmth of the heated greenhouse floor surrounded by the healing greenery of plants.  Top off the evening with a tasty cup of hot cocoa or other chocolate treat. \n\n\n\nThe evening will leave you feeling cozy\, warm\, and alive with the vibrations of life rekindled within you.
URL:https://powerfulchild.com/event/a-midwinters-night-dream-jan-28th/
LOCATION:Camphill Soltane\, 224 Nantmeal Rd\, Glenmoore\, Pennsylvania\, United States
END:VEVENT
END:VCALENDAR