BEGIN:VCALENDAR
VERSION:2.0
PRODID:-//Powerful Child - ECPv6.15.20//NONSGML v1.0//EN
CALSCALE:GREGORIAN
METHOD:PUBLISH
X-ORIGINAL-URL:https://powerfulchild.com
X-WR-CALDESC:Events for Powerful Child
REFRESH-INTERVAL;VALUE=DURATION:PT1H
X-Robots-Tag:noindex
X-PUBLISHED-TTL:PT1H
BEGIN:VTIMEZONE
TZID:America/New_York
BEGIN:DAYLIGHT
TZOFFSETFROM:-0500
TZOFFSETTO:-0400
TZNAME:EDT
DTSTART:20230312T070000
END:DAYLIGHT
BEGIN:STANDARD
TZOFFSETFROM:-0400
TZOFFSETTO:-0500
TZNAME:EST
DTSTART:20231105T060000
END:STANDARD
BEGIN:DAYLIGHT
TZOFFSETFROM:-0500
TZOFFSETTO:-0400
TZNAME:EDT
DTSTART:20240310T070000
END:DAYLIGHT
BEGIN:STANDARD
TZOFFSETFROM:-0400
TZOFFSETTO:-0500
TZNAME:EST
DTSTART:20241103T060000
END:STANDARD
BEGIN:DAYLIGHT
TZOFFSETFROM:-0500
TZOFFSETTO:-0400
TZNAME:EDT
DTSTART:20250309T070000
END:DAYLIGHT
BEGIN:STANDARD
TZOFFSETFROM:-0400
TZOFFSETTO:-0500
TZNAME:EST
DTSTART:20251102T060000
END:STANDARD
END:VTIMEZONE
BEGIN:VEVENT
DTSTART;TZID=America/New_York:20240212T190000
DTEND;TZID=America/New_York:20240212T200000
DTSTAMP:20260424T112846
CREATED:20240104T171129Z
LAST-MODIFIED:20240131T193307Z
UID:2049-1707764400-1707768000@powerfulchild.com
SUMMARY:Monday Night Zoom Yoga - Feb 12th
DESCRIPTION:Join ZOOM\n\n\n\n\n \n\n\n\n\n\nClass is offered in the comfort of your own space\, no driving required!  Zoom meeting ID is 680 382 479. \n\n\n\nTime: Every week on Monday at 7:00 PM\, arrive at 6:45 to connect to the community – I highly recommend arriving early to meet the community. This is how we build relationships and make friends! \n\n\n\nCost: $15 payable via Venmo to @PowerfulChild (Amanda Daley).  Tips are accepted! Sometimes cost is hindrance; no one will be turned away. The community will cover it! Reach out if you would like assistance.  \n\n\n\nPlease learn more by clicking on the Classes tab and selecting Monday Zoom Yoga. \n\n\n\n\n\n\n\n\n\n\n\n\n\n\nPay $15 via PayPal
URL:https://powerfulchild.com/event/monday-night-zoom-yoga-march-5th/
ATTACH;FMTTYPE=image/jpeg:https://powerfulchild.com/wp-content/uploads/pexels-photo-6697233.jpeg
END:VEVENT
END:VCALENDAR