BEGIN:VCALENDAR
VERSION:2.0
PRODID:-//Powerful Child - ECPv6.15.20//NONSGML v1.0//EN
CALSCALE:GREGORIAN
METHOD:PUBLISH
X-WR-CALNAME:Powerful Child
X-ORIGINAL-URL:https://powerfulchild.com
X-WR-CALDESC:Events for Powerful Child
REFRESH-INTERVAL;VALUE=DURATION:PT1H
X-Robots-Tag:noindex
X-PUBLISHED-TTL:PT1H
BEGIN:VTIMEZONE
TZID:America/New_York
BEGIN:DAYLIGHT
TZOFFSETFROM:-0500
TZOFFSETTO:-0400
TZNAME:EDT
DTSTART:20230312T070000
END:DAYLIGHT
BEGIN:STANDARD
TZOFFSETFROM:-0400
TZOFFSETTO:-0500
TZNAME:EST
DTSTART:20231105T060000
END:STANDARD
BEGIN:DAYLIGHT
TZOFFSETFROM:-0500
TZOFFSETTO:-0400
TZNAME:EDT
DTSTART:20240310T070000
END:DAYLIGHT
BEGIN:STANDARD
TZOFFSETFROM:-0400
TZOFFSETTO:-0500
TZNAME:EST
DTSTART:20241103T060000
END:STANDARD
BEGIN:DAYLIGHT
TZOFFSETFROM:-0500
TZOFFSETTO:-0400
TZNAME:EDT
DTSTART:20250309T070000
END:DAYLIGHT
BEGIN:STANDARD
TZOFFSETFROM:-0400
TZOFFSETTO:-0500
TZNAME:EST
DTSTART:20251102T060000
END:STANDARD
END:VTIMEZONE
BEGIN:VEVENT
DTSTART;TZID=America/New_York:20240328T070000
DTEND;TZID=America/New_York:20240328T080000
DTSTAMP:20260424T094905
CREATED:20240304T151927Z
LAST-MODIFIED:20240304T151931Z
UID:2095-1711609200-1711612800@powerfulchild.com
SUMMARY:Early Risers @ Vital Touch - March 28th
DESCRIPTION:Amanda Daley’s early morning\, all-levels class is designed to gently awaken and strengthen your body. Ease into movement as you gradually challenge your muscles and mind by holding beginner-friendly poses that tap into your inner and physical strength. The slow pace allows you to move mindfully and safely. Each class offers its own unique sequence which your teacher will help you modify to fit how you show up that morning. You are strong\, come and let yourself feel it. \n\n\n\nThis class is of moderate intensity. \n\n\n\nPoses will be modified to suit ALL levels\, including beginners.
URL:https://powerfulchild.com/event/early-risers-vital-touch-march-28th/
LOCATION:Vital Touch Wellness\, 176 Park Rd\, Downingtown\, Pennsylvania\, 19335\, United States
ATTACH;FMTTYPE=image/jpeg:https://powerfulchild.com/wp-content/uploads/IMG_20230126_073520490.jpg
END:VEVENT
BEGIN:VEVENT
DTSTART;TZID=America/New_York:20240328T110000
DTEND;TZID=America/New_York:20240328T140000
DTSTAMP:20260424T094905
CREATED:20240324T214619Z
LAST-MODIFIED:20240324T214622Z
UID:2155-1711623600-1711634400@powerfulchild.com
SUMMARY:WCU Puppy Yoga - March 28th
DESCRIPTION:West Chester University students join Amanda on campus for puppy yoga between classes.   \n\n\n\nSessions run half an hour and you must register ahead of time for your time slot.
URL:https://powerfulchild.com/event/wcu-puppy-yoga-march-28th/
ATTACH;FMTTYPE=image/jpeg:https://powerfulchild.com/wp-content/uploads/yoga-6476-scaled.jpg
END:VEVENT
BEGIN:VEVENT
DTSTART;TZID=America/New_York:20240328T183000
DTEND;TZID=America/New_York:20240328T193000
DTSTAMP:20260424T094905
CREATED:20240324T214901Z
LAST-MODIFIED:20240324T214903Z
UID:2157-1711650600-1711654200@powerfulchild.com
SUMMARY:Yin Yoga @ Vital Touch - Mar 28th
DESCRIPTION:Yin Yoga Description \n\n\n\nFeel stronger\, looser\, centered. This class begins with slow stretching to warm up your body.  Then you’ll hold passive stretches for 1-5 minutes to still your mind and release deeply held tension in your muscles and joints.  In between\, gentle movements will be guided to allow circulation to increase and energy to move.   \n\n\n\nA wonderful evening practice as yin offers benefits such as enhancing sleep quality\, balancing emotions\, and promotes deep relaxation.  \n\n\n\nIntensity: Low to Moderate    Level: ALL Levels
URL:https://powerfulchild.com/event/yin-yoga-vital-touch-mar-28th/
LOCATION:Vital Touch Wellness\, 176 Park Rd\, Downingtown\, Pennsylvania\, 19335\, United States
ATTACH;FMTTYPE=image/jpeg:https://powerfulchild.com/wp-content/uploads/yin-pic-rotated.jpg
END:VEVENT
END:VCALENDAR