BEGIN:VCALENDAR
VERSION:2.0
PRODID:-//Powerful Child - ECPv6.15.20//NONSGML v1.0//EN
CALSCALE:GREGORIAN
METHOD:PUBLISH
X-WR-CALNAME:Powerful Child
X-ORIGINAL-URL:https://powerfulchild.com
X-WR-CALDESC:Events for Powerful Child
REFRESH-INTERVAL;VALUE=DURATION:PT1H
X-Robots-Tag:noindex
X-PUBLISHED-TTL:PT1H
BEGIN:VTIMEZONE
TZID:America/New_York
BEGIN:DAYLIGHT
TZOFFSETFROM:-0500
TZOFFSETTO:-0400
TZNAME:EDT
DTSTART:20230312T070000
END:DAYLIGHT
BEGIN:STANDARD
TZOFFSETFROM:-0400
TZOFFSETTO:-0500
TZNAME:EST
DTSTART:20231105T060000
END:STANDARD
BEGIN:DAYLIGHT
TZOFFSETFROM:-0500
TZOFFSETTO:-0400
TZNAME:EDT
DTSTART:20240310T070000
END:DAYLIGHT
BEGIN:STANDARD
TZOFFSETFROM:-0400
TZOFFSETTO:-0500
TZNAME:EST
DTSTART:20241103T060000
END:STANDARD
BEGIN:DAYLIGHT
TZOFFSETFROM:-0500
TZOFFSETTO:-0400
TZNAME:EDT
DTSTART:20250309T070000
END:DAYLIGHT
BEGIN:STANDARD
TZOFFSETFROM:-0400
TZOFFSETTO:-0500
TZNAME:EST
DTSTART:20251102T060000
END:STANDARD
END:VTIMEZONE
BEGIN:VEVENT
DTSTART;TZID=America/New_York:20240601T091500
DTEND;TZID=America/New_York:20240601T101500
DTSTAMP:20260424T060849
CREATED:20240424T183215Z
LAST-MODIFIED:20240530T205826Z
UID:2178-1717233300-1717236900@powerfulchild.com
SUMMARY:Yin Yoga at Fulcrum Place - June 1st
DESCRIPTION:Normally we flow Saturdays\, but this one is calling for some stillness.  Stretch into your weekend with a yin style practice.  Hold poses for around 3 minutes with gentle movement in-between.  This class will leave you feeling ready to roll into your day with ease.   \n\n\n\nRSVP Required!
URL:https://powerfulchild.com/event/flow-fulcrum-place-june-1st/
LOCATION:Fulcrum Place\, 530 Brandywine Ave\, Downingtown\, Pennsylvania\, 19335\, United States
ATTACH;FMTTYPE=image/jpeg:https://powerfulchild.com/wp-content/uploads/20190729_182808-scaled.jpg
END:VEVENT
END:VCALENDAR