BEGIN:VCALENDAR
VERSION:2.0
PRODID:-//Powerful Child - ECPv6.15.20//NONSGML v1.0//EN
CALSCALE:GREGORIAN
METHOD:PUBLISH
X-WR-CALNAME:Powerful Child
X-ORIGINAL-URL:https://powerfulchild.com
X-WR-CALDESC:Events for Powerful Child
REFRESH-INTERVAL;VALUE=DURATION:PT1H
X-Robots-Tag:noindex
X-PUBLISHED-TTL:PT1H
BEGIN:VTIMEZONE
TZID:America/New_York
BEGIN:DAYLIGHT
TZOFFSETFROM:-0500
TZOFFSETTO:-0400
TZNAME:EDT
DTSTART:20230312T070000
END:DAYLIGHT
BEGIN:STANDARD
TZOFFSETFROM:-0400
TZOFFSETTO:-0500
TZNAME:EST
DTSTART:20231105T060000
END:STANDARD
BEGIN:DAYLIGHT
TZOFFSETFROM:-0500
TZOFFSETTO:-0400
TZNAME:EDT
DTSTART:20240310T070000
END:DAYLIGHT
BEGIN:STANDARD
TZOFFSETFROM:-0400
TZOFFSETTO:-0500
TZNAME:EST
DTSTART:20241103T060000
END:STANDARD
BEGIN:DAYLIGHT
TZOFFSETFROM:-0500
TZOFFSETTO:-0400
TZNAME:EDT
DTSTART:20250309T070000
END:DAYLIGHT
BEGIN:STANDARD
TZOFFSETFROM:-0400
TZOFFSETTO:-0500
TZNAME:EST
DTSTART:20251102T060000
END:STANDARD
END:VTIMEZONE
BEGIN:VEVENT
DTSTART;TZID=America/New_York:20240602T100000
DTEND;TZID=America/New_York:20240602T110000
DTSTAMP:20260424T060848
CREATED:20240304T162343Z
LAST-MODIFIED:20240504T000752Z
UID:2118-1717322400-1717326000@powerfulchild.com
SUMMARY:Yoga in the Lavender Field - June 2nd
DESCRIPTION:TEXT Amandaabout WEATHER\n\n\n\n\n \n\n\n\n\n\nYoga in the Lavender is back!  An absolutely gorgeous place to practice yoga\, either in the sunshine or in the shade.   \n\n\n\nBring your yoga mat or a towel. The view and connection with nature promises to nurture your practice. No experience is necessary\, class is designed to be accessible to all. \n\n\n\nWeather permitting\, yoga will be held every Sunday at 10 am starting Sunday\, June 2nd until the last Sunday in Sept. Calls about the weather are made by Amanda day of class.  If you are uncertain\, please text Amanda at 610-299-9111. \n\n\n\nBe aware that classes will be held outdoors on uneven ground. Lavender attracts bees – if you are allergic to bees\, it is recommended you attend a different class with Amanda.  We are in nature which means bugs.  Please remember you are in their home and be a nice guest.   \n\n\n\n$20 for Single Class* – Payable via Cash or Venmo (@powerfulchild – Amanda Will). *Registration not required. \n\n\n\nMore information at Yoga in the Lavender Field – Every Sunday at 10 am beginning June 2 — Mt Airy Lavender \n\n\n\n\n\n\n\n\n\n\n\n\n\n\nPay $20 via PayPal
URL:https://powerfulchild.com/event/yoga-in-the-lavender-field-june-2nd/
LOCATION:Mt. Airy Lavender Farm\, 123 N. Mt Airy Road\, Coatesville\, Pennsylvania\, 19320\, United States
ATTACH;FMTTYPE=image/jpeg:https://powerfulchild.com/wp-content/uploads/20230618_105415-scaled.jpg
END:VEVENT
END:VCALENDAR