BEGIN:VCALENDAR
VERSION:2.0
PRODID:-//Powerful Child - ECPv6.15.20//NONSGML v1.0//EN
CALSCALE:GREGORIAN
METHOD:PUBLISH
X-WR-CALNAME:Powerful Child
X-ORIGINAL-URL:https://powerfulchild.com
X-WR-CALDESC:Events for Powerful Child
REFRESH-INTERVAL;VALUE=DURATION:PT1H
X-Robots-Tag:noindex
X-PUBLISHED-TTL:PT1H
BEGIN:VTIMEZONE
TZID:America/New_York
BEGIN:DAYLIGHT
TZOFFSETFROM:-0500
TZOFFSETTO:-0400
TZNAME:EDT
DTSTART:20230312T070000
END:DAYLIGHT
BEGIN:STANDARD
TZOFFSETFROM:-0400
TZOFFSETTO:-0500
TZNAME:EST
DTSTART:20231105T060000
END:STANDARD
BEGIN:DAYLIGHT
TZOFFSETFROM:-0500
TZOFFSETTO:-0400
TZNAME:EDT
DTSTART:20240310T070000
END:DAYLIGHT
BEGIN:STANDARD
TZOFFSETFROM:-0400
TZOFFSETTO:-0500
TZNAME:EST
DTSTART:20241103T060000
END:STANDARD
BEGIN:DAYLIGHT
TZOFFSETFROM:-0500
TZOFFSETTO:-0400
TZNAME:EDT
DTSTART:20250309T070000
END:DAYLIGHT
BEGIN:STANDARD
TZOFFSETFROM:-0400
TZOFFSETTO:-0500
TZNAME:EST
DTSTART:20251102T060000
END:STANDARD
END:VTIMEZONE
BEGIN:VEVENT
DTSTART;TZID=America/New_York:20240715T190000
DTEND;TZID=America/New_York:20240715T200000
DTSTAMP:20260424T045848
CREATED:20240616T200850Z
LAST-MODIFIED:20240616T200855Z
UID:2374-1721070000-1721073600@powerfulchild.com
SUMMARY:Monday Night Zoom - July 15th
DESCRIPTION:Class is offered in the comfort of your own space\, no driving required! Zoom meeting ID is 680 382 479. \n\n\n\nTime: Every week on Monday at 7:00 PM\, arrive at 6:45 to connect to the community – It is highly recommended to arrive early\, turn your camera on\, and meet the community. This is how we build relationships and make friends! \n\n\n\nCost: $17 payable via Venmo to @PowerfulChild (Amanda Will). Tips are accepted. If cost is a hinderance\, please don’t let that stop you from joining. Reach out and we will work it out! \n\n\n\nPlease learn more by clicking on the Classes tab and selecting Monday Zoom Yoga. \n\n\n\n\nJoin Zoom
URL:https://powerfulchild.com/event/monday-night-zoom-july-15th/
ATTACH;FMTTYPE=image/jpeg:https://powerfulchild.com/wp-content/uploads/pexels-photo-6697233.jpeg
END:VEVENT
END:VCALENDAR