BEGIN:VCALENDAR
VERSION:2.0
PRODID:-//Powerful Child - ECPv6.15.20//NONSGML v1.0//EN
CALSCALE:GREGORIAN
METHOD:PUBLISH
X-WR-CALNAME:Powerful Child
X-ORIGINAL-URL:https://powerfulchild.com
X-WR-CALDESC:Events for Powerful Child
REFRESH-INTERVAL;VALUE=DURATION:PT1H
X-Robots-Tag:noindex
X-PUBLISHED-TTL:PT1H
BEGIN:VTIMEZONE
TZID:America/New_York
BEGIN:DAYLIGHT
TZOFFSETFROM:-0500
TZOFFSETTO:-0400
TZNAME:EDT
DTSTART:20230312T070000
END:DAYLIGHT
BEGIN:STANDARD
TZOFFSETFROM:-0400
TZOFFSETTO:-0500
TZNAME:EST
DTSTART:20231105T060000
END:STANDARD
BEGIN:DAYLIGHT
TZOFFSETFROM:-0500
TZOFFSETTO:-0400
TZNAME:EDT
DTSTART:20240310T070000
END:DAYLIGHT
BEGIN:STANDARD
TZOFFSETFROM:-0400
TZOFFSETTO:-0500
TZNAME:EST
DTSTART:20241103T060000
END:STANDARD
BEGIN:DAYLIGHT
TZOFFSETFROM:-0500
TZOFFSETTO:-0400
TZNAME:EDT
DTSTART:20250309T070000
END:DAYLIGHT
BEGIN:STANDARD
TZOFFSETFROM:-0400
TZOFFSETTO:-0500
TZNAME:EST
DTSTART:20251102T060000
END:STANDARD
END:VTIMEZONE
BEGIN:VEVENT
DTSTART;TZID=America/New_York:20240726T183000
DTEND;TZID=America/New_York:20240726T193000
DTSTAMP:20260424T045847
CREATED:20240709T115738Z
LAST-MODIFIED:20240709T115741Z
UID:2407-1722018600-1722022200@powerfulchild.com
SUMMARY:Greenhouse Yoga - July 26th
DESCRIPTION:Camphill Soltane opens up their greenhouse the last Friday of summer months for the public to come enjoy their amazing venue. This gorgeous place is rented for events including weddings\, and they have given us the exciting opportunity to roll out our mats and be part of it!  \n\n\n\nWind down the week with a lovely yoga practice designed to be accessible and enjoyable to all.  Focus on building your mind muscle and building a healthy relationship with your body.   \n\n\n\n*SPACE IS LIMITED TO 15* Please register here: Life Enrichment Classes in Glenmoore\, PA! — Camphill Soltane HINT – use classes pull down menu to find Yoga in the Greenhouse. \n\n\n\n-Last month’s class was gorgeous: the breeze was blowing\, the sun was setting\, the atmosphere was lovely\, green everywhere!
URL:https://powerfulchild.com/event/greenhouse-yoga-july-26th/
LOCATION:Camphill Soltane\, 224 Nantmeal Rd\, Glenmoore\, Pennsylvania\, United States
ATTACH;FMTTYPE=image/jpeg:https://powerfulchild.com/wp-content/uploads/Greenhouse-Yoga-scaled.jpg
END:VEVENT
END:VCALENDAR