BEGIN:VCALENDAR
VERSION:2.0
PRODID:-//Powerful Child - ECPv6.15.20//NONSGML v1.0//EN
CALSCALE:GREGORIAN
METHOD:PUBLISH
X-ORIGINAL-URL:https://powerfulchild.com
X-WR-CALDESC:Events for Powerful Child
REFRESH-INTERVAL;VALUE=DURATION:PT1H
X-Robots-Tag:noindex
X-PUBLISHED-TTL:PT1H
BEGIN:VTIMEZONE
TZID:America/New_York
BEGIN:DAYLIGHT
TZOFFSETFROM:-0500
TZOFFSETTO:-0400
TZNAME:EDT
DTSTART:20230312T070000
END:DAYLIGHT
BEGIN:STANDARD
TZOFFSETFROM:-0400
TZOFFSETTO:-0500
TZNAME:EST
DTSTART:20231105T060000
END:STANDARD
BEGIN:DAYLIGHT
TZOFFSETFROM:-0500
TZOFFSETTO:-0400
TZNAME:EDT
DTSTART:20240310T070000
END:DAYLIGHT
BEGIN:STANDARD
TZOFFSETFROM:-0400
TZOFFSETTO:-0500
TZNAME:EST
DTSTART:20241103T060000
END:STANDARD
BEGIN:DAYLIGHT
TZOFFSETFROM:-0500
TZOFFSETTO:-0400
TZNAME:EDT
DTSTART:20250309T070000
END:DAYLIGHT
BEGIN:STANDARD
TZOFFSETFROM:-0400
TZOFFSETTO:-0500
TZNAME:EST
DTSTART:20251102T060000
END:STANDARD
END:VTIMEZONE
BEGIN:VEVENT
DTSTART;TZID=America/New_York:20240919T070000
DTEND;TZID=America/New_York:20240919T080000
DTSTAMP:20260424T005751
CREATED:20240818T175103Z
LAST-MODIFIED:20240818T175115Z
UID:2462-1726729200-1726732800@powerfulchild.com
SUMMARY:Early Risers at Vital Touch - Sept 19th
DESCRIPTION:Amanda’s early morning\, all-levels class is designed to gently awaken and strengthen your body. Ease into movement as you gradually challenge your muscles and mind by holding beginner-friendly poses that tap into your inner and physical strength. The slow pace allows you to move mindfully and safely. Each class offers its own unique sequence which your teacher will help you modify to fit how you show up that morning. You are strong\, come and let yourself feel it. \n\n\n\nThis class is of moderate intensity. \n\n\n\nPoses will be modified to suit ALL levels\, including beginners.
URL:https://powerfulchild.com/event/early-risers-at-vital-touch-sept-19th/
LOCATION:Vital Touch Wellness\, 176 Park Rd\, Downingtown\, Pennsylvania\, 19335\, United States
ATTACH;FMTTYPE=image/jpeg:https://powerfulchild.com/wp-content/uploads/IMG_20230126_073520490.jpg
END:VEVENT
BEGIN:VEVENT
DTSTART;TZID=America/New_York:20240919T183000
DTEND;TZID=America/New_York:20240919T193000
DTSTAMP:20260424T005751
CREATED:20240824T221725Z
LAST-MODIFIED:20240824T221727Z
UID:2510-1726770600-1726774200@powerfulchild.com
SUMMARY:Yin Yoga at Vital Touch - Sept 19th
DESCRIPTION:Amanda takes over the Thursday evening Yin class starting in June! \n\n\n\nYin yoga is a practice of holding poses for about 3 minutes\, allowing your body to really settle in and let go.  Gentle movements are guided in between longer held poses to stimulate circulation and prepare for the next hold.  Great way to increase flexibility without straining.    \n\n\n\nA wonderful evening practice as yin offers benefits such as enhancing sleep quality\, balancing emotions\, and promotes deep relaxation.  \n\n\n\nIntensity: Low to Moderate    Level: ALL Levels
URL:https://powerfulchild.com/event/yin-yoga-at-vital-touch-sept-19th/
LOCATION:Vital Touch Wellness\, 176 Park Rd\, Downingtown\, Pennsylvania\, 19335\, United States
ATTACH;FMTTYPE=image/jpeg:https://powerfulchild.com/wp-content/uploads/yin-pic-rotated.jpg
END:VEVENT
END:VCALENDAR