BEGIN:VCALENDAR
VERSION:2.0
PRODID:-//Powerful Child - ECPv6.15.20//NONSGML v1.0//EN
CALSCALE:GREGORIAN
METHOD:PUBLISH
X-WR-CALNAME:Powerful Child
X-ORIGINAL-URL:https://powerfulchild.com
X-WR-CALDESC:Events for Powerful Child
REFRESH-INTERVAL;VALUE=DURATION:PT1H
X-Robots-Tag:noindex
X-PUBLISHED-TTL:PT1H
BEGIN:VTIMEZONE
TZID:America/New_York
BEGIN:DAYLIGHT
TZOFFSETFROM:-0500
TZOFFSETTO:-0400
TZNAME:EDT
DTSTART:20240310T070000
END:DAYLIGHT
BEGIN:STANDARD
TZOFFSETFROM:-0400
TZOFFSETTO:-0500
TZNAME:EST
DTSTART:20241103T060000
END:STANDARD
BEGIN:DAYLIGHT
TZOFFSETFROM:-0500
TZOFFSETTO:-0400
TZNAME:EDT
DTSTART:20250309T070000
END:DAYLIGHT
BEGIN:STANDARD
TZOFFSETFROM:-0400
TZOFFSETTO:-0500
TZNAME:EST
DTSTART:20251102T060000
END:STANDARD
BEGIN:DAYLIGHT
TZOFFSETFROM:-0500
TZOFFSETTO:-0400
TZNAME:EDT
DTSTART:20260308T070000
END:DAYLIGHT
BEGIN:STANDARD
TZOFFSETFROM:-0400
TZOFFSETTO:-0500
TZNAME:EST
DTSTART:20261101T060000
END:STANDARD
END:VTIMEZONE
BEGIN:VEVENT
DTSTART;TZID=America/New_York:20250226T090000
DTEND;TZID=America/New_York:20250226T100000
DTSTAMP:20260423T171401
CREATED:20250203T200109Z
LAST-MODIFIED:20250203T200114Z
UID:2790-1740560400-1740564000@powerfulchild.com
SUMMARY:Tailored Foundations Yoga @ Vital Touch - Feb 26th
DESCRIPTION:This unique and practical class is tailored to the student. Each class includes a fluid sequence of poses determined by the individual needs of the students in the class that day. Emphasis is on postural stability and flexibility to build strength\, support\, and enhance what you do in your everyday life. \n\n\n\nChiropractor and Physical Therapist approved\, this class is perfect for students with pain or physical issues\, or students who are “yoga-shy” and worried about injury. It’s also ideal for the seasoned yogi who wants to hone the basic building blocks of their practice.  \n\n\n\nThis class feels slow and gentle\, but builds serious core strength and pelvic stability. You’ll walk out feeling stronger\, taller\, and looser. \n\n\n\nIntensity: LowLevel: beginner\, intermediate\, advanced \n\n\n\nRegister with Vital Touch
URL:https://powerfulchild.com/event/tailored-foundations-yoga-vital-touch-feb-26th/
LOCATION:Vital Touch Wellness\, 176 Park Rd\, Downingtown\, Pennsylvania\, 19335\, United States
ATTACH;FMTTYPE=image/jpeg:https://powerfulchild.com/wp-content/uploads/IMG_20230126_073520490.jpg
END:VEVENT
BEGIN:VEVENT
DTSTART;TZID=America/New_York:20250226T103000
DTEND;TZID=America/New_York:20250226T113000
DTSTAMP:20260423T171401
CREATED:20250203T200919Z
LAST-MODIFIED:20250203T200926Z
UID:2792-1740565800-1740569400@powerfulchild.com
SUMMARY:Gentle Strength Training - Feb 26th
DESCRIPTION:Build muscular strength\, improve flexibility\, and enhance functional movement at Vital Touch’s new Gentle Strength Training Class. Whether you’re new to fitness\, need help with joint pain or injury\, or you’re looking for a low-impact workout\, this class is tailored to suit each student’s needs.
URL:https://powerfulchild.com/event/gentle-strength-training-feb-26th/
LOCATION:Vital Touch Wellness\, 176 Park Rd\, Downingtown\, Pennsylvania\, 19335\, United States
END:VEVENT
END:VCALENDAR