BEGIN:VCALENDAR
VERSION:2.0
PRODID:-//Powerful Child - ECPv6.15.20//NONSGML v1.0//EN
CALSCALE:GREGORIAN
METHOD:PUBLISH
X-WR-CALNAME:Powerful Child
X-ORIGINAL-URL:https://powerfulchild.com
X-WR-CALDESC:Events for Powerful Child
REFRESH-INTERVAL;VALUE=DURATION:PT1H
X-Robots-Tag:noindex
X-PUBLISHED-TTL:PT1H
BEGIN:VTIMEZONE
TZID:America/New_York
BEGIN:DAYLIGHT
TZOFFSETFROM:-0500
TZOFFSETTO:-0400
TZNAME:EDT
DTSTART:20240310T070000
END:DAYLIGHT
BEGIN:STANDARD
TZOFFSETFROM:-0400
TZOFFSETTO:-0500
TZNAME:EST
DTSTART:20241103T060000
END:STANDARD
BEGIN:DAYLIGHT
TZOFFSETFROM:-0500
TZOFFSETTO:-0400
TZNAME:EDT
DTSTART:20250309T070000
END:DAYLIGHT
BEGIN:STANDARD
TZOFFSETFROM:-0400
TZOFFSETTO:-0500
TZNAME:EST
DTSTART:20251102T060000
END:STANDARD
BEGIN:DAYLIGHT
TZOFFSETFROM:-0500
TZOFFSETTO:-0400
TZNAME:EDT
DTSTART:20260308T070000
END:DAYLIGHT
BEGIN:STANDARD
TZOFFSETFROM:-0400
TZOFFSETTO:-0500
TZNAME:EST
DTSTART:20261101T060000
END:STANDARD
END:VTIMEZONE
BEGIN:VEVENT
DTSTART;TZID=America/New_York:20250403T183000
DTEND;TZID=America/New_York:20250403T193000
DTSTAMP:20260423T154400
CREATED:20250403T154102Z
LAST-MODIFIED:20250403T154106Z
UID:2833-1743705000-1743708600@powerfulchild.com
SUMMARY:Yin Yoga at Vital Touch - Apr 3rd
DESCRIPTION:Yin yoga is a practice of holding poses for about 3 minutes\, allowing your body to really settle in and let go.  Gentle movements are guided in between longer held poses to stimulate circulation and prepare for the next hold.  Great way to increase flexibility without straining.    \n\n\n\nA wonderful evening practice as yin offers benefits such as enhancing sleep quality\, balancing emotions\, and promotes deep relaxation.  \n\n\n\nIntensity: Low to Moderate    Level: ALL Levels
URL:https://powerfulchild.com/event/yin-yoga-at-vital-touch-apr-3rd/
LOCATION:Vital Touch Wellness\, 176 Park Rd\, Downingtown\, Pennsylvania\, 19335\, United States
ATTACH;FMTTYPE=image/jpeg:https://powerfulchild.com/wp-content/uploads/20240519_083426-scaled.jpg
END:VEVENT
END:VCALENDAR