BEGIN:VCALENDAR
VERSION:2.0
PRODID:-//Powerful Child - ECPv6.15.20//NONSGML v1.0//EN
CALSCALE:GREGORIAN
METHOD:PUBLISH
X-WR-CALNAME:Powerful Child
X-ORIGINAL-URL:https://powerfulchild.com
X-WR-CALDESC:Events for Powerful Child
REFRESH-INTERVAL;VALUE=DURATION:PT1H
X-Robots-Tag:noindex
X-PUBLISHED-TTL:PT1H
BEGIN:VTIMEZONE
TZID:America/New_York
BEGIN:DAYLIGHT
TZOFFSETFROM:-0500
TZOFFSETTO:-0400
TZNAME:EDT
DTSTART:20240310T070000
END:DAYLIGHT
BEGIN:STANDARD
TZOFFSETFROM:-0400
TZOFFSETTO:-0500
TZNAME:EST
DTSTART:20241103T060000
END:STANDARD
BEGIN:DAYLIGHT
TZOFFSETFROM:-0500
TZOFFSETTO:-0400
TZNAME:EDT
DTSTART:20250309T070000
END:DAYLIGHT
BEGIN:STANDARD
TZOFFSETFROM:-0400
TZOFFSETTO:-0500
TZNAME:EST
DTSTART:20251102T060000
END:STANDARD
BEGIN:DAYLIGHT
TZOFFSETFROM:-0500
TZOFFSETTO:-0400
TZNAME:EDT
DTSTART:20260308T070000
END:DAYLIGHT
BEGIN:STANDARD
TZOFFSETFROM:-0400
TZOFFSETTO:-0500
TZNAME:EST
DTSTART:20261101T060000
END:STANDARD
END:VTIMEZONE
BEGIN:VEVENT
DTSTART;TZID=America/New_York:20250716T183000
DTEND;TZID=America/New_York:20250716T193000
DTSTAMP:20260423T114742
CREATED:20250629T193335Z
LAST-MODIFIED:20250703T174821Z
UID:3035-1752690600-1752694200@powerfulchild.com
SUMMARY:Outdoors in Historic Yellow Springs - July 16th
DESCRIPTION:Outdoor Mindful Yoga in Historic Yellow Springs:Breathe deeply\, move gently to stretch fully\, and reconnect with yourself in the serene beauty of Historic Yellow Springs. This outdoor yoga class invites you to slow down and fully experience the healing power of nature.  We’ll practice gentle movement\, mindfulness\, and meditation to support physical\, emotional\, and mental well-being. Each session is designed to help you ground\, reset\, and tune in—receiving the calm and emotional boost that being outdoors brings.  All levels welcome\, no previous experience necessary.  \n\n\n\nWe will meet on the porch of the Lincoln Building\, then move to the chosen outdoor location. Please bring a mat and any props you enjoy using.  If it rains\, we will be indoors in one of the historic buildings on campus. \n\n\n\nFind out more information and register at Yoga at the Springs: Drop in | Historic Yellow Springs *Registration ahead of time required to run the class!!
URL:https://powerfulchild.com/event/outdoors-in-historic-yellow-springs-july-16th/
LOCATION:The Lincoln Building\, 1685 Art School Rd\, Chester Springs\, PA\, 19425
ATTACH;FMTTYPE=image/jpeg:https://powerfulchild.com/wp-content/uploads/Screenshot_20250629_152514_Google.jpg
END:VEVENT
END:VCALENDAR