BEGIN:VCALENDAR
VERSION:2.0
PRODID:-//Powerful Child - ECPv6.15.20//NONSGML v1.0//EN
CALSCALE:GREGORIAN
METHOD:PUBLISH
X-ORIGINAL-URL:https://powerfulchild.com
X-WR-CALDESC:Events for Powerful Child
REFRESH-INTERVAL;VALUE=DURATION:PT1H
X-Robots-Tag:noindex
X-PUBLISHED-TTL:PT1H
BEGIN:VTIMEZONE
TZID:America/New_York
BEGIN:DAYLIGHT
TZOFFSETFROM:-0500
TZOFFSETTO:-0400
TZNAME:EDT
DTSTART:20250309T070000
END:DAYLIGHT
BEGIN:STANDARD
TZOFFSETFROM:-0400
TZOFFSETTO:-0500
TZNAME:EST
DTSTART:20251102T060000
END:STANDARD
BEGIN:DAYLIGHT
TZOFFSETFROM:-0500
TZOFFSETTO:-0400
TZNAME:EDT
DTSTART:20260308T070000
END:DAYLIGHT
BEGIN:STANDARD
TZOFFSETFROM:-0400
TZOFFSETTO:-0500
TZNAME:EST
DTSTART:20261101T060000
END:STANDARD
BEGIN:DAYLIGHT
TZOFFSETFROM:-0500
TZOFFSETTO:-0400
TZNAME:EDT
DTSTART:20270314T070000
END:DAYLIGHT
BEGIN:STANDARD
TZOFFSETFROM:-0400
TZOFFSETTO:-0500
TZNAME:EST
DTSTART:20271107T060000
END:STANDARD
END:VTIMEZONE
BEGIN:VEVENT
DTSTART;TZID=America/New_York:20260520T090000
DTEND;TZID=America/New_York:20260520T100000
DTSTAMP:20260423T044924
CREATED:20260420T222835Z
LAST-MODIFIED:20260420T223008Z
UID:3814-1779267600-1779271200@powerfulchild.com
SUMMARY:Tailored Foundations at Vital Touch - May 20th
DESCRIPTION:This unique and practical class is tailored to the student. Each class includes a fluid sequence of poses determined by the individual needs of the students in the class that day. Emphasis is on postural stability and flexibility to build strength\, support\, and enhance what you do in your everyday life. \n\n\n\nChiropractor and Physical Therapist approved\, this class is perfect for students with pain or physical issues\, or students who are “yoga-shy” and worried about injury. It’s also ideal for the seasoned yogi who wants to hone the basic building blocks of their practice.  \n\n\n\nThis class feels slow and gentle\, but builds serious core strength and pelvic stability. You’ll walk out feeling stronger\, taller\, and looser. \n\n\n\nIntensity: LowLevel: beginner\, intermediate\, advanced \n\n\n\nRegister with Vital Touch
URL:https://powerfulchild.com/event/tailored-foundations-at-vital-touch-may-20th/
LOCATION:Vital Touch Wellness\, 176 Park Rd\, Downingtown\, Pennsylvania\, 19335\, United States
ATTACH;FMTTYPE=image/jpeg:https://powerfulchild.com/wp-content/uploads/vtw-yoga-4.jpg
END:VEVENT
BEGIN:VEVENT
DTSTART;TZID=America/New_York:20260521T063000
DTEND;TZID=America/New_York:20260521T073000
DTSTAMP:20260423T044924
CREATED:20260422T022940Z
LAST-MODIFIED:20260422T022944Z
UID:3846-1779345000-1779348600@powerfulchild.com
SUMMARY:Early Risers at Vital Touch - May 21st
DESCRIPTION:Amanda’s early morning class is challenging in a fun and gentle way.  Each class offers its own unique sequence which Amanda will help you modify to fit how you show up that morning. You are strong\, come and let yourself feel it. \n\n\n\nThis class is of moderate intensity. \n\n\n\nPoses will be modified to suit ALL levels\, including beginners.
URL:https://powerfulchild.com/event/early-risers-at-vital-touch-may-21st/
LOCATION:Vital Touch Wellness\, 176 Park Rd\, Downingtown\, Pennsylvania\, 19335\, United States
ATTACH;FMTTYPE=image/jpeg:https://powerfulchild.com/wp-content/uploads/IMG_20230126_073520490.jpg
END:VEVENT
BEGIN:VEVENT
DTSTART;TZID=America/New_York:20260521T090000
DTEND;TZID=America/New_York:20260521T101500
DTSTAMP:20260423T044924
CREATED:20260420T112742Z
LAST-MODIFIED:20260420T112744Z
UID:3790-1779354000-1779358500@powerfulchild.com
SUMMARY:Grounded Slow Flow at SYS - May 21st
DESCRIPTION:Grounded Slow Flow is a blend of held postures with gentle\, mindful movement to deepen body awareness and release tension. Think yin and flow combined into a beautiful\, relaxing practice.
URL:https://powerfulchild.com/event/grounded-slow-flow-at-sys-may-21st/
LOCATION:Solstice Yoga Shala\, 3605 E Main Street (Route 23)\, Morgantown\, Pennsylvania\, 19543\, United States
ATTACH;FMTTYPE=image/jpeg:https://powerfulchild.com/wp-content/uploads/IMG_4520-scaled.jpeg
END:VEVENT
BEGIN:VEVENT
DTSTART;TZID=America/New_York:20260521T183000
DTEND;TZID=America/New_York:20260521T193000
DTSTAMP:20260423T044924
CREATED:20260420T113120Z
LAST-MODIFIED:20260420T113123Z
UID:3797-1779388200-1779391800@powerfulchild.com
SUMMARY:Yin at Vital Touch - May 21st
DESCRIPTION:Yin yoga is a practice of holding poses for about 3 minutes\, allowing your body to completely settle in and let go. Gentle movements are guided in between longer held poses to stimulate circulation and prepare for the next hold. Great way to increase flexibility without straining. \n\n\n\nA wonderful evening practice as yin offers benefits such as enhancing sleep quality\, balancing emotions\, and promotes deep relaxation.  \n\n\n\nIntensity: Low to Moderate    Level: ALL Levels
URL:https://powerfulchild.com/event/yin-at-vital-touch-may-21st/
LOCATION:Vital Touch Wellness\, 176 Park Rd\, Downingtown\, Pennsylvania\, 19335\, United States
ATTACH;FMTTYPE=image/jpeg:https://powerfulchild.com/wp-content/uploads/20240519_083426-scaled.jpg
END:VEVENT
BEGIN:VEVENT
DTSTART;TZID=America/New_York:20260525T090000
DTEND;TZID=America/New_York:20260525T100000
DTSTAMP:20260423T044924
CREATED:20260422T010856Z
LAST-MODIFIED:20260422T010902Z
UID:3827-1779699600-1779703200@powerfulchild.com
SUMMARY:Tailored Foundations at Vital Touch - May 25th
DESCRIPTION:This unique and practical class is tailored to the student. Each class includes a fluid sequence of poses determined by the individual needs of the students in the class that day. Emphasis is on postural stability and flexibility to build strength\, support\, and enhance what you do in your everyday life. \n\n\n\nChiropractor and Physical Therapist approved\, this class is perfect for students with pain or physical issues\, or students who are “yoga-shy” and worried about injury. It’s also ideal for the seasoned yogi who wants to hone the basic building blocks of their practice.  \n\n\n\nThis class feels slow and gentle\, but builds serious core strength and pelvic stability. You’ll walk out feeling stronger\, taller\, and looser. \n\n\n\nIntensity: LowLevel: beginner\, intermediate\, advanced \n\n\n\nRegister with Vital Touch
URL:https://powerfulchild.com/event/tailored-foundations-at-vital-touch-may-25th/
LOCATION:Vital Touch Wellness\, 176 Park Rd\, Downingtown\, Pennsylvania\, 19335\, United States
ATTACH;FMTTYPE=image/jpeg:https://powerfulchild.com/wp-content/uploads/vtw-yoga-4.jpg
END:VEVENT
BEGIN:VEVENT
DTSTART;TZID=America/New_York:20260525T103000
DTEND;TZID=America/New_York:20260525T113000
DTSTAMP:20260423T044924
CREATED:20260422T020839Z
LAST-MODIFIED:20260422T020842Z
UID:3834-1779705000-1779708600@powerfulchild.com
SUMMARY:Chair Yoga at Vital Touch - May 25th
DESCRIPTION:Amanda brings chair yoga to Vital Touch!  Amanda has been teaching chair yoga for private facilities for some time and has developed a love for the practice.  Benefits to all practitioners\, it allows for a supportive way to explore yoga asana. \n\n\n\n\nPerfect for all ages and fitness levels. Each session begins with a grounding meditation to help you center your mind and connect with the present moment. As you settle into your chair\, you’ll be guided through a series of soothing seated stretches to help release tension and stress held in the body. \n\n\n\nIncrease flexibility\, improve circulation\, and enhance overall mobility. After warming up\, you’ll stand and explore safe and accessible yoga poses\, using the chair for support if you need it.  \n\n\n\nCalm your mind and release stress. With a focus on mindfulness and breath awareness\, you’ll learn techniques to calm your mind\, reduce anxiety\, and promote a sense of inner peace and well-being. \n\n\n\nWhether you’re managing chronic pain\, recovering from injury\, or simply seeking a gentle way to stay active and vibrant\, Chair Yoga offers a safe and supportive environment to explore the healing benefits of yoga. \n\n\n\nJoin Amanda and journey together towards greater balance and vitality!
URL:https://powerfulchild.com/event/chair-yoga-at-vital-touch-may-25th/
LOCATION:Vital Touch Wellness\, 176 Park Rd\, Downingtown\, Pennsylvania\, 19335\, United States
ATTACH;FMTTYPE=image/jpeg:https://powerfulchild.com/wp-content/uploads/Chair-Yoga.jpg
END:VEVENT
BEGIN:VEVENT
DTSTART;TZID=America/New_York:20260525T190000
DTEND;TZID=America/New_York:20260525T200000
DTSTAMP:20260423T044924
CREATED:20260420T112140Z
LAST-MODIFIED:20260420T112142Z
UID:3784-1779735600-1779739200@powerfulchild.com
SUMMARY:Monday Night Zoom - May 25th
DESCRIPTION:Class is offered in the comfort of your own space\, no driving required!  \n\n\n\nZoom meeting ID is 815 9253 4384. \n\n\n\nTime: Every week on Monday at 7:00 PM\, arrive at 6:45 to connect to the community – It is highly recommended to arrive early\, turn your camera on\, and meet the community. This is how we build relationships and make friends! \n\n\n\nCost: $17 payable via Venmo to @PowerfulChild (Amanda Will).  If cost is a hinderance\, please don’t let that stop you from joining. Reach out and we will work it out! \n\n\n\nPlease learn more by clicking on the Classes tab and selecting Monday Zoom Yoga. \n\n\n\n\nJoin Zoom
URL:https://powerfulchild.com/event/monday-night-zoom-may-25th/
ATTACH;FMTTYPE=image/jpeg:https://powerfulchild.com/wp-content/uploads/20240826_1900282-scaled.jpg
END:VEVENT
BEGIN:VEVENT
DTSTART;TZID=America/New_York:20260527T090000
DTEND;TZID=America/New_York:20260527T100000
DTSTAMP:20260423T044924
CREATED:20260422T010950Z
LAST-MODIFIED:20260422T010955Z
UID:3828-1779872400-1779876000@powerfulchild.com
SUMMARY:Tailored Foundations at Vital Touch - May 27th
DESCRIPTION:This unique and practical class is tailored to the student. Each class includes a fluid sequence of poses determined by the individual needs of the students in the class that day. Emphasis is on postural stability and flexibility to build strength\, support\, and enhance what you do in your everyday life. \n\n\n\nChiropractor and Physical Therapist approved\, this class is perfect for students with pain or physical issues\, or students who are “yoga-shy” and worried about injury. It’s also ideal for the seasoned yogi who wants to hone the basic building blocks of their practice.  \n\n\n\nThis class feels slow and gentle\, but builds serious core strength and pelvic stability. You’ll walk out feeling stronger\, taller\, and looser. \n\n\n\nIntensity: LowLevel: beginner\, intermediate\, advanced \n\n\n\nRegister with Vital Touch
URL:https://powerfulchild.com/event/tailored-foundations-at-vital-touch-may-27th/
LOCATION:Vital Touch Wellness\, 176 Park Rd\, Downingtown\, Pennsylvania\, 19335\, United States
ATTACH;FMTTYPE=image/jpeg:https://powerfulchild.com/wp-content/uploads/vtw-yoga-4.jpg
END:VEVENT
BEGIN:VEVENT
DTSTART;TZID=America/New_York:20260601T090000
DTEND;TZID=America/New_York:20260601T100000
DTSTAMP:20260423T044924
CREATED:20260422T011209Z
LAST-MODIFIED:20260422T011213Z
UID:3826-1780304400-1780308000@powerfulchild.com
SUMMARY:Tailored Foundations at Vital Touch - June 1st
DESCRIPTION:This unique and practical class is tailored to the student. Each class includes a fluid sequence of poses determined by the individual needs of the students in the class that day. Emphasis is on postural stability and flexibility to build strength\, support\, and enhance what you do in your everyday life. \n\n\n\nChiropractor and Physical Therapist approved\, this class is perfect for students with pain or physical issues\, or students who are “yoga-shy” and worried about injury. It’s also ideal for the seasoned yogi who wants to hone the basic building blocks of their practice.  \n\n\n\nThis class feels slow and gentle\, but builds serious core strength and pelvic stability. You’ll walk out feeling stronger\, taller\, and looser. \n\n\n\nIntensity: LowLevel: beginner\, intermediate\, advanced \n\n\n\nRegister with Vital Touch
URL:https://powerfulchild.com/event/tailored-foundations-at-vital-touch-june-1st/
LOCATION:Vital Touch Wellness\, 176 Park Rd\, Downingtown\, Pennsylvania\, 19335\, United States
ATTACH;FMTTYPE=image/jpeg:https://powerfulchild.com/wp-content/uploads/vtw-yoga-4.jpg
END:VEVENT
BEGIN:VEVENT
DTSTART;TZID=America/New_York:20260601T103000
DTEND;TZID=America/New_York:20260601T113000
DTSTAMP:20260423T044924
CREATED:20260422T022356Z
LAST-MODIFIED:20260422T022402Z
UID:3833-1780309800-1780313400@powerfulchild.com
SUMMARY:Chair Yoga at Vital Touch - June 1st
DESCRIPTION:Amanda brings chair yoga to Vital Touch!  Amanda has been teaching chair yoga for private facilities for some time and has developed a love for the practice.  Benefits to all practitioners\, it allows for a supportive way to explore yoga asana. \n\n\n\n\nPerfect for all ages and fitness levels. Each session begins with a grounding meditation to help you center your mind and connect with the present moment. As you settle into your chair\, you’ll be guided through a series of soothing seated stretches to help release tension and stress held in the body. \n\n\n\nIncrease flexibility\, improve circulation\, and enhance overall mobility. After warming up\, you’ll stand and explore safe and accessible yoga poses\, using the chair for support if you need it.  \n\n\n\nCalm your mind and release stress. With a focus on mindfulness and breath awareness\, you’ll learn techniques to calm your mind\, reduce anxiety\, and promote a sense of inner peace and well-being. \n\n\n\nWhether you’re managing chronic pain\, recovering from injury\, or simply seeking a gentle way to stay active and vibrant\, Chair Yoga offers a safe and supportive environment to explore the healing benefits of yoga. \n\n\n\nJoin Amanda and journey together towards greater balance and vitality!
URL:https://powerfulchild.com/event/chair-yoga-at-vital-touch-june-1st/
LOCATION:Vital Touch Wellness\, 176 Park Rd\, Downingtown\, Pennsylvania\, 19335\, United States
ATTACH;FMTTYPE=image/jpeg:https://powerfulchild.com/wp-content/uploads/Chair-Yoga.jpg
END:VEVENT
BEGIN:VEVENT
DTSTART;TZID=America/New_York:20260601T190000
DTEND;TZID=America/New_York:20260601T200000
DTSTAMP:20260423T044924
CREATED:20260420T112241Z
LAST-MODIFIED:20260420T112243Z
UID:3786-1780340400-1780344000@powerfulchild.com
SUMMARY:Monday Night Zoom - June 1st
DESCRIPTION:Class is offered in the comfort of your own space\, no driving required!  \n\n\n\nZoom meeting ID is 815 9253 4384. \n\n\n\nTime: Every week on Monday at 7:00 PM\, arrive at 6:45 to connect to the community – It is highly recommended to arrive early\, turn your camera on\, and meet the community. This is how we build relationships and make friends! \n\n\n\nCost: $17 payable via Venmo to @PowerfulChild (Amanda Will).  If cost is a hinderance\, please don’t let that stop you from joining. Reach out and we will work it out! \n\n\n\nPlease learn more by clicking on the Classes tab and selecting Monday Zoom Yoga. \n\n\n\n\nJoin Zoom
URL:https://powerfulchild.com/event/monday-night-zoom-june-1st/
ATTACH;FMTTYPE=image/jpeg:https://powerfulchild.com/wp-content/uploads/20240826_1900282-scaled.jpg
END:VEVENT
BEGIN:VEVENT
DTSTART;TZID=America/New_York:20260607T100000
DTEND;TZID=America/New_York:20260607T110000
DTSTAMP:20260423T044924
CREATED:20260413T115731Z
LAST-MODIFIED:20260413T115733Z
UID:3765-1780826400-1780830000@powerfulchild.com
SUMMARY:Yoga in the Lavender - June 7th
DESCRIPTION:Yoga in the Lavender Field – Sundays from 10 am to 11 am \n\n\n\n Set amoung Mt. Airy Farm’s lavender fields with views of the horses\, this class invites you to slow down\, breathe deeply\, and move mindfully. \n\n\n\nClasses focus on mindfulness and the gentle exploration of mind and body in a loving and accessible way. No experience necessary\, all are welcome. \n\n\n\nShaded on warm summer days and serenaded by bees (please be mindful if you have allergies)\, you’ll experience the grounding calm of practicing yoga in a natural\, aromatic setting. \n\n\n\nAfter class\, you can visit the charming barn shop\, filled with handmade lavender goods and lavender honey ice cream. \n\n\n\nIn the event of rain\, class will be held in the beautiful barn space\, where the air is filled with the calming scent of dried lavender. \n\n\n\nWhat to Bring: Please bring a yoga mat\, water\, and anything else that will help you feel comfortable. Most classes will be held outdoors on uneven ground.Note: Lavender attracts bees—if you are allergic\, this class may not be suitable for you. \n\n\n\nPlease visit the event webpage here for more information and discounted tickets: https://mtairylavender.com/workshops/2025-yoga \n\n\n\n\n\n\n\n\n\n\n\n\n\n\nPay $20 via PayPal
URL:https://powerfulchild.com/event/yoga-in-the-lavender-june-7th/
LOCATION:Mt. Airy Lavender Farm\, 123 N. Mt Airy Road\, Coatesville\, Pennsylvania\, 19320\, United States
ATTACH;FMTTYPE=image/jpeg:https://powerfulchild.com/wp-content/uploads/20230618_105415-scaled.jpg
END:VEVENT
BEGIN:VEVENT
DTSTART;TZID=America/New_York:20260608T103000
DTEND;TZID=America/New_York:20260608T113000
DTSTAMP:20260423T044924
CREATED:20260422T022605Z
LAST-MODIFIED:20260422T022612Z
UID:3832-1780914600-1780918200@powerfulchild.com
SUMMARY:Chair Yoga at Vital Touch - June 8th
DESCRIPTION:Amanda brings chair yoga to Vital Touch!  Amanda has been teaching chair yoga for private facilities for some time and has developed a love for the practice.  Benefits to all practitioners\, it allows for a supportive way to explore yoga asana. \n\n\n\n\nPerfect for all ages and fitness levels. Each session begins with a grounding meditation to help you center your mind and connect with the present moment. As you settle into your chair\, you’ll be guided through a series of soothing seated stretches to help release tension and stress held in the body. \n\n\n\nIncrease flexibility\, improve circulation\, and enhance overall mobility. After warming up\, you’ll stand and explore safe and accessible yoga poses\, using the chair for support if you need it.  \n\n\n\nCalm your mind and release stress. With a focus on mindfulness and breath awareness\, you’ll learn techniques to calm your mind\, reduce anxiety\, and promote a sense of inner peace and well-being. \n\n\n\nWhether you’re managing chronic pain\, recovering from injury\, or simply seeking a gentle way to stay active and vibrant\, Chair Yoga offers a safe and supportive environment to explore the healing benefits of yoga. \n\n\n\nJoin Amanda and journey together towards greater balance and vitality!
URL:https://powerfulchild.com/event/chair-yoga-at-vital-touch-june-8th/
LOCATION:Vital Touch Wellness\, 176 Park Rd\, Downingtown\, Pennsylvania\, 19335\, United States
ATTACH;FMTTYPE=image/jpeg:https://powerfulchild.com/wp-content/uploads/Chair-Yoga.jpg
END:VEVENT
BEGIN:VEVENT
DTSTART;TZID=America/New_York:20260608T190000
DTEND;TZID=America/New_York:20260608T200000
DTSTAMP:20260423T044924
CREATED:20260420T112344Z
LAST-MODIFIED:20260420T112347Z
UID:3785-1780945200-1780948800@powerfulchild.com
SUMMARY:Monday Night Zoom - June 8th
DESCRIPTION:Class is offered in the comfort of your own space\, no driving required!  \n\n\n\nZoom meeting ID is 815 9253 4384. \n\n\n\nTime: Every week on Monday at 7:00 PM\, arrive at 6:45 to connect to the community – It is highly recommended to arrive early\, turn your camera on\, and meet the community. This is how we build relationships and make friends! \n\n\n\nCost: $17 payable via Venmo to @PowerfulChild (Amanda Will).  If cost is a hinderance\, please don’t let that stop you from joining. Reach out and we will work it out! \n\n\n\nPlease learn more by clicking on the Classes tab and selecting Monday Zoom Yoga. \n\n\n\n\nJoin Zoom
URL:https://powerfulchild.com/event/monday-night-zoom-june-8th/
ATTACH;FMTTYPE=image/jpeg:https://powerfulchild.com/wp-content/uploads/20240826_1900282-scaled.jpg
END:VEVENT
END:VCALENDAR