BEGIN:VCALENDAR
VERSION:2.0
PRODID:-//Powerful Child - ECPv6.15.20//NONSGML v1.0//EN
CALSCALE:GREGORIAN
METHOD:PUBLISH
X-ORIGINAL-URL:https://powerfulchild.com
X-WR-CALDESC:Events for Powerful Child
REFRESH-INTERVAL;VALUE=DURATION:PT1H
X-Robots-Tag:noindex
X-PUBLISHED-TTL:PT1H
BEGIN:VTIMEZONE
TZID:America/New_York
BEGIN:DAYLIGHT
TZOFFSETFROM:-0500
TZOFFSETTO:-0400
TZNAME:EDT
DTSTART:20220313T070000
END:DAYLIGHT
BEGIN:STANDARD
TZOFFSETFROM:-0400
TZOFFSETTO:-0500
TZNAME:EST
DTSTART:20221106T060000
END:STANDARD
BEGIN:DAYLIGHT
TZOFFSETFROM:-0500
TZOFFSETTO:-0400
TZNAME:EDT
DTSTART:20230312T070000
END:DAYLIGHT
BEGIN:STANDARD
TZOFFSETFROM:-0400
TZOFFSETTO:-0500
TZNAME:EST
DTSTART:20231105T060000
END:STANDARD
BEGIN:DAYLIGHT
TZOFFSETFROM:-0500
TZOFFSETTO:-0400
TZNAME:EDT
DTSTART:20240310T070000
END:DAYLIGHT
BEGIN:STANDARD
TZOFFSETFROM:-0400
TZOFFSETTO:-0500
TZNAME:EST
DTSTART:20241103T060000
END:STANDARD
END:VTIMEZONE
BEGIN:VEVENT
DTSTART;TZID=America/New_York:20231201T183000
DTEND;TZID=America/New_York:20231201T194500
DTSTAMP:20260424T124640
CREATED:20231107T235755Z
LAST-MODIFIED:20231107T235758Z
UID:2002-1701455400-1701459900@powerfulchild.com
SUMMARY:Monthly Mindfulness Support - Dec 1st
DESCRIPTION:Monthly Mindfulness Support Group – Donation based mindfulness group held on the first Friday of every month at 6:30 pm.  Join us for time to share\, connect\, and support others on our path to mindfulness. Learn breathwork and mindfulness techniques\, ask questions and practice together.  Chairs\, cushions\, and mats provided.  Focus on parenting\, open to all.     \n\n\n\nPlease email if interested in attending: RSVP
URL:https://powerfulchild.com/event/monthly-mindfulness-support-dec-1st/
LOCATION:KJW & Associates\, 530 Brandywine Ave\, Downingtown\, Pennsylvania\, 19335\, United States
ATTACH;FMTTYPE=image/jpeg:https://powerfulchild.com/wp-content/uploads/pexels-photo-4474035.jpeg
END:VEVENT
BEGIN:VEVENT
DTSTART;TZID=America/New_York:20231202T090000
DTEND;TZID=America/New_York:20231202T100000
DTSTAMP:20260424T124640
CREATED:20231127T013352Z
LAST-MODIFIED:20231127T013355Z
UID:2012-1701507600-1701511200@powerfulchild.com
SUMMARY:Gentle Flow @ Vital Touch - Dec 2nd
DESCRIPTION:Ease into your weekend feeling refreshed and centered. Just like its name implies\, this class has slower pacing and more easeful postures. Gentle yoga is all about listening to your body and not pushing yourself beyond your limits. \n\n\n\nThis class is great for the beginner yogi\, but it’s not just for beginners! The easeful pace can be perfect for experienced yogis who need to slow down\, or yogis who have physical limitations or injuries. \n\n\n\nIntensity: Low to moderateLevel: Beginner\, Intermediate\, Advanced \n\n\n\nRegister with Vital Touch
URL:https://powerfulchild.com/event/gentle-flow-vital-touch-dec-2nd/
ATTACH;FMTTYPE=image/jpeg:https://powerfulchild.com/wp-content/uploads/IMG_20230126_073520490.jpg
END:VEVENT
BEGIN:VEVENT
DTSTART;TZID=America/New_York:20231204T190000
DTEND;TZID=America/New_York:20231204T200000
DTSTAMP:20260424T124640
CREATED:20231127T030211Z
LAST-MODIFIED:20231127T030214Z
UID:2022-1701716400-1701720000@powerfulchild.com
SUMMARY:Monday Night Zoom Yoga - Dec 4th
DESCRIPTION:Join ZOOM\n\n\n\n\n \n\n\n\n\n\nClass is offered in the comfort of your own space\, no driving required!  Zoom meeting ID is 680 382 479. \n\n\n\nTime: Every week on Monday at 7:00 PM\, arrive at 6:45 to connect to the community – I highly recommend arriving early to meet the community. This is how we build relationships and make friends! \n\n\n\nCost: $15 payable via Venmo to @PowerfulChild (Amanda Daley).  Tips are accepted! Sometimes cost is hindrance; no one will be turned away. The community will cover it! Reach out if you would like assistance.  \n\n\n\nPlease learn more by clicking on the Classes tab and selecting Monday Zoom Yoga. \n\n\n\n\n\n\n\n\n\n\n\n\n\n\nPay $15 via PayPal
URL:https://powerfulchild.com/event/monday-night-zoom-yoga-dec-4th/
ATTACH;FMTTYPE=image/jpeg:https://powerfulchild.com/wp-content/uploads/pexels-photo-6697233.jpeg
END:VEVENT
BEGIN:VEVENT
DTSTART;TZID=America/New_York:20231207T070000
DTEND;TZID=America/New_York:20231207T080000
DTSTAMP:20260424T124640
CREATED:20231127T013448Z
LAST-MODIFIED:20231127T013451Z
UID:2014-1701932400-1701936000@powerfulchild.com
SUMMARY:Early Risers @ Vital Touch - Dec 7th
DESCRIPTION:Amanda Daley’s early morning\, all-levels class is designed to gently awaken and strengthen your body. Ease into movement as you gradually challenge your muscles and mind by holding beginner-friendly poses that tap into your inner and physical strength. The slow pace allows you to move mindfully and safely. Each class offers its own unique sequence which your teacher will help you modify to fit how you show up that morning. You are strong\, come and let yourself feel it. \n\n\n\nThis class is of moderate intensity. \n\n\n\nPoses will be modified to suit ALL levels\, including beginners.
URL:https://powerfulchild.com/event/early-risers-vital-touch-dec-7th/
LOCATION:Vital Touch Wellness\, 176 Park Rd\, Downingtown\, Pennsylvania\, 19335\, United States
ATTACH;FMTTYPE=image/jpeg:https://powerfulchild.com/wp-content/uploads/IMG_20230126_073520490.jpg
END:VEVENT
BEGIN:VEVENT
DTSTART;TZID=America/New_York:20231211T190000
DTEND;TZID=America/New_York:20231211T200000
DTSTAMP:20260424T124640
CREATED:20231127T030413Z
LAST-MODIFIED:20231127T030415Z
UID:2026-1702321200-1702324800@powerfulchild.com
SUMMARY:Monday Night Zoom Yoga - Dec 11th
DESCRIPTION:Join ZOOM\n\n\n\n\n \n\n\n\n\n\nClass is offered in the comfort of your own space\, no driving required!  Zoom meeting ID is 680 382 479. \n\n\n\nTime: Every week on Monday at 7:00 PM\, arrive at 6:45 to connect to the community – I highly recommend arriving early to meet the community. This is how we build relationships and make friends! \n\n\n\nCost: $15 payable via Venmo to @PowerfulChild (Amanda Daley).  Tips are accepted! Sometimes cost is hindrance; no one will be turned away. The community will cover it! Reach out if you would like assistance.  \n\n\n\nPlease learn more by clicking on the Classes tab and selecting Monday Zoom Yoga. \n\n\n\n\n\n\n\n\n\n\n\n\n\n\nPay $15 via PayPal
URL:https://powerfulchild.com/event/monday-night-zoom-yoga-dec-11th/
ATTACH;FMTTYPE=image/jpeg:https://powerfulchild.com/wp-content/uploads/pexels-photo-6697233.jpeg
END:VEVENT
BEGIN:VEVENT
DTSTART;TZID=America/New_York:20231214T070000
DTEND;TZID=America/New_York:20231214T080000
DTSTAMP:20260424T124640
CREATED:20231127T013553Z
LAST-MODIFIED:20231127T013556Z
UID:2016-1702537200-1702540800@powerfulchild.com
SUMMARY:Early Risers @ Vital Touch - Dec 14th
DESCRIPTION:Amanda Daley’s early morning\, all-levels class is designed to gently awaken and strengthen your body. Ease into movement as you gradually challenge your muscles and mind by holding beginner-friendly poses that tap into your inner and physical strength. The slow pace allows you to move mindfully and safely. Each class offers its own unique sequence which your teacher will help you modify to fit how you show up that morning. You are strong\, come and let yourself feel it. \n\n\n\nThis class is of moderate intensity. \n\n\n\nPoses will be modified to suit ALL levels\, including beginners.
URL:https://powerfulchild.com/event/early-risers-vital-touch-dec-14th/
LOCATION:Vital Touch Wellness\, 176 Park Rd\, Downingtown\, Pennsylvania\, 19335\, United States
ATTACH;FMTTYPE=image/jpeg:https://powerfulchild.com/wp-content/uploads/IMG_20230126_073520490.jpg
END:VEVENT
BEGIN:VEVENT
DTSTART;TZID=America/New_York:20231218T190000
DTEND;TZID=America/New_York:20231218T200000
DTSTAMP:20260424T124640
CREATED:20231127T030452Z
LAST-MODIFIED:20231127T030455Z
UID:2028-1702926000-1702929600@powerfulchild.com
SUMMARY:Monday Night Zoom Yoga - Dec 18th
DESCRIPTION:Join ZOOM\n\n\n\n\n \n\n\n\n\n\nClass is offered in the comfort of your own space\, no driving required!  Zoom meeting ID is 680 382 479. \n\n\n\nTime: Every week on Monday at 7:00 PM\, arrive at 6:45 to connect to the community – I highly recommend arriving early to meet the community. This is how we build relationships and make friends! \n\n\n\nCost: $15 payable via Venmo to @PowerfulChild (Amanda Daley).  Tips are accepted! Sometimes cost is hindrance; no one will be turned away. The community will cover it! Reach out if you would like assistance.  \n\n\n\nPlease learn more by clicking on the Classes tab and selecting Monday Zoom Yoga. \n\n\n\n\n\n\n\n\n\n\n\n\n\n\nPay $15 via PayPal
URL:https://powerfulchild.com/event/monday-night-zoom-yoga-dec-18th/
ATTACH;FMTTYPE=image/jpeg:https://powerfulchild.com/wp-content/uploads/pexels-photo-6697233.jpeg
END:VEVENT
BEGIN:VEVENT
DTSTART;TZID=America/New_York:20231221T070000
DTEND;TZID=America/New_York:20231221T080000
DTSTAMP:20260424T124640
CREATED:20231127T030018Z
LAST-MODIFIED:20231127T030022Z
UID:2018-1703142000-1703145600@powerfulchild.com
SUMMARY:Early Risers @ Vital Touch - Dec 21st
DESCRIPTION:Amanda Daley’s early morning\, all-levels class is designed to gently awaken and strengthen your body. Ease into movement as you gradually challenge your muscles and mind by holding beginner-friendly poses that tap into your inner and physical strength. The slow pace allows you to move mindfully and safely. Each class offers its own unique sequence which your teacher will help you modify to fit how you show up that morning. You are strong\, come and let yourself feel it. \n\n\n\nThis class is of moderate intensity. \n\n\n\nPoses will be modified to suit ALL levels\, including beginners.
URL:https://powerfulchild.com/event/early-risers-vital-touch-dec-21st/
LOCATION:Vital Touch Wellness\, 176 Park Rd\, Downingtown\, Pennsylvania\, 19335\, United States
ATTACH;FMTTYPE=image/jpeg:https://powerfulchild.com/wp-content/uploads/IMG_20230126_073520490.jpg
END:VEVENT
BEGIN:VEVENT
DTSTART;TZID=America/New_York:20231228T070000
DTEND;TZID=America/New_York:20231228T080000
DTSTAMP:20260424T124640
CREATED:20231127T030057Z
LAST-MODIFIED:20231127T030059Z
UID:2020-1703746800-1703750400@powerfulchild.com
SUMMARY:Early Risers @ Vital Touch - Dec 28th
DESCRIPTION:Amanda Daley’s early morning\, all-levels class is designed to gently awaken and strengthen your body. Ease into movement as you gradually challenge your muscles and mind by holding beginner-friendly poses that tap into your inner and physical strength. The slow pace allows you to move mindfully and safely. Each class offers its own unique sequence which your teacher will help you modify to fit how you show up that morning. You are strong\, come and let yourself feel it. \n\n\n\nThis class is of moderate intensity. \n\n\n\nPoses will be modified to suit ALL levels\, including beginners.
URL:https://powerfulchild.com/event/early-risers-vital-touch-dec-28th/
LOCATION:Vital Touch Wellness\, 176 Park Rd\, Downingtown\, Pennsylvania\, 19335\, United States
ATTACH;FMTTYPE=image/jpeg:https://powerfulchild.com/wp-content/uploads/IMG_20230126_073520490.jpg
END:VEVENT
END:VCALENDAR